BEGIN:VCALENDAR
VERSION:2.0
PRODID:-//Broken Cross Club - ECPv6.15.20//NONSGML v1.0//EN
CALSCALE:GREGORIAN
METHOD:PUBLISH
X-ORIGINAL-URL:https://brokencrossclub.co.uk
X-WR-CALDESC:Events for Broken Cross Club
REFRESH-INTERVAL;VALUE=DURATION:PT1H
X-Robots-Tag:noindex
X-PUBLISHED-TTL:PT1H
BEGIN:VTIMEZONE
TZID:Europe/London
BEGIN:DAYLIGHT
TZOFFSETFROM:+0000
TZOFFSETTO:+0100
TZNAME:BST
DTSTART:20250330T010000
END:DAYLIGHT
BEGIN:STANDARD
TZOFFSETFROM:+0100
TZOFFSETTO:+0000
TZNAME:GMT
DTSTART:20251026T010000
END:STANDARD
BEGIN:DAYLIGHT
TZOFFSETFROM:+0000
TZOFFSETTO:+0100
TZNAME:BST
DTSTART:20260329T010000
END:DAYLIGHT
BEGIN:STANDARD
TZOFFSETFROM:+0100
TZOFFSETTO:+0000
TZNAME:GMT
DTSTART:20261025T010000
END:STANDARD
BEGIN:DAYLIGHT
TZOFFSETFROM:+0000
TZOFFSETTO:+0100
TZNAME:BST
DTSTART:20270328T010000
END:DAYLIGHT
BEGIN:STANDARD
TZOFFSETFROM:+0100
TZOFFSETTO:+0000
TZNAME:GMT
DTSTART:20271031T010000
END:STANDARD
END:VTIMEZONE
BEGIN:VEVENT
DTSTART;TZID=Europe/London:20260606T210000
DTEND;TZID=Europe/London:20260606T233000
DTSTAMP:20260423T151603
CREATED:20250214T114140Z
LAST-MODIFIED:20251009T141902Z
UID:5328-1780779600-1780788600@brokencrossclub.co.uk
SUMMARY:Blind Tiger
DESCRIPTION:Playing Your Favourite Rock\, Pop & Indie Classics from Across the Decade \nSet list is typical classic covers–Stones\, CCR\, ZZTop\, Fleetwood Mac\, Elvis\, Abba\, Beatles\, Eagles\, Oasis
URL:https://brokencrossclub.co.uk/event/blind-tiger-3/
LOCATION:Broken Cross Club\, Broken Cross\, Macclesfield\, SK11 8TU\, United Kingdom
CATEGORIES:Saturday Night Entertainment
ATTACH;FMTTYPE=image/jpeg:https://brokencrossclub.co.uk/wp-content/uploads/2024/02/Blind-Tiger.jpg
END:VEVENT
BEGIN:VEVENT
DTSTART;TZID=Europe/London:20260613T210000
DTEND;TZID=Europe/London:20260613T233000
DTSTAMP:20260423T151603
CREATED:20250212T121103Z
LAST-MODIFIED:20260419T190234Z
UID:5274-1781384400-1781393400@brokencrossclub.co.uk
SUMMARY:Fletch
DESCRIPTION:Fantastic Show     Rock n Roll       and 60’s
URL:https://brokencrossclub.co.uk/event/fletch-2/
CATEGORIES:Saturday Night Entertainment
END:VEVENT
BEGIN:VEVENT
DTSTART;TZID=Europe/London:20260614T130000
DTEND;TZID=Europe/London:20260614T170000
DTSTAMP:20260423T151603
CREATED:20260119T154221Z
LAST-MODIFIED:20260119T154344Z
UID:5439-1781442000-1781456400@brokencrossclub.co.uk
SUMMARY:Kool Katz
DESCRIPTION:The Koolkatz are a 3 piece band that brings you a wide range of music from the 1950’s and early 1960’s\, including Doo Wop\, Rock’n’Roll\, Rockabilly\, Commercial Classics and our own original material.
URL:https://brokencrossclub.co.uk/event/kool-katz/
LOCATION:Broken Cross Club\, Broken Cross\, Macclesfield\, SK11 8TU\, United Kingdom
CATEGORIES:Rock n Roll Nights
END:VEVENT
BEGIN:VEVENT
DTSTART;TZID=Europe/London:20260627T210000
DTEND;TZID=Europe/London:20260627T233000
DTSTAMP:20260423T151603
CREATED:20220924T110743Z
LAST-MODIFIED:20260413T113347Z
UID:4482-1782594000-1782603000@brokencrossclub.co.uk
SUMMARY:Geoff Stax/ NeilDiamond Tribute/Soulman
DESCRIPTION:Recently returning to tour the UK and continuing with this very unique show (that includes a very special satelite link up with Barbara Streisand in which they perform the duet “you dont bring me flowers”)\nIt is fair to say that the two types of music are so contrasting that some venues present the night as a double bill!!\nThis is a truly a unique show covering a wide spectrum of popular music that never fails to deliver a superb night of entertainment!
URL:https://brokencrossclub.co.uk/event/geoff-stax/
LOCATION:Broken Cross Club\, Broken Cross\, Macclesfield\, SK11 8TU\, United Kingdom
CATEGORIES:Saturday Night Entertainment
ATTACH;FMTTYPE=image/jpeg:https://brokencrossclub.co.uk/wp-content/uploads/2022/09/GEOFFstax-1.jpg
END:VEVENT
END:VCALENDAR