BEGIN:VCALENDAR
VERSION:2.0
PRODID:-//Broken Cross Club - ECPv6.15.20//NONSGML v1.0//EN
CALSCALE:GREGORIAN
METHOD:PUBLISH
X-ORIGINAL-URL:https://brokencrossclub.co.uk
X-WR-CALDESC:Events for Broken Cross Club
REFRESH-INTERVAL;VALUE=DURATION:PT1H
X-Robots-Tag:noindex
X-PUBLISHED-TTL:PT1H
BEGIN:VTIMEZONE
TZID:Europe/London
BEGIN:DAYLIGHT
TZOFFSETFROM:+0000
TZOFFSETTO:+0100
TZNAME:BST
DTSTART:20240331T010000
END:DAYLIGHT
BEGIN:STANDARD
TZOFFSETFROM:+0100
TZOFFSETTO:+0000
TZNAME:GMT
DTSTART:20241027T010000
END:STANDARD
BEGIN:DAYLIGHT
TZOFFSETFROM:+0000
TZOFFSETTO:+0100
TZNAME:BST
DTSTART:20250330T010000
END:DAYLIGHT
BEGIN:STANDARD
TZOFFSETFROM:+0100
TZOFFSETTO:+0000
TZNAME:GMT
DTSTART:20251026T010000
END:STANDARD
BEGIN:DAYLIGHT
TZOFFSETFROM:+0000
TZOFFSETTO:+0100
TZNAME:BST
DTSTART:20260329T010000
END:DAYLIGHT
BEGIN:STANDARD
TZOFFSETFROM:+0100
TZOFFSETTO:+0000
TZNAME:GMT
DTSTART:20261025T010000
END:STANDARD
END:VTIMEZONE
BEGIN:VEVENT
DTSTART;TZID=Europe/London:20250906T210000
DTEND;TZID=Europe/London:20250906T233000
DTSTAMP:20260423T210727
CREATED:20211111T194849Z
LAST-MODIFIED:20250214T113328Z
UID:4309-1757192400-1757201400@brokencrossclub.co.uk
SUMMARY:Eddie Matrix
DESCRIPTION:Guitar Vocalist \n50’s  60’s  70’s  80’s  90’s \nRock & Roll
URL:https://brokencrossclub.co.uk/event/eddie-matrix/
LOCATION:Broken Cross Club\, Broken Cross\, Macclesfield\, SK11 8TU\, United Kingdom
CATEGORIES:Saturday Night Entertainment
ATTACH;FMTTYPE=image/jpeg:https://brokencrossclub.co.uk/wp-content/uploads/2021/11/Eddie-Matrix1-1.jpg
END:VEVENT
BEGIN:VEVENT
DTSTART;TZID=Europe/London:20250912T200000
DTEND;TZID=Europe/London:20250912T233000
DTSTAMP:20260423T210727
CREATED:20230418T115536Z
LAST-MODIFIED:20250708T152455Z
UID:4576-1757707200-1757719800@brokencrossclub.co.uk
SUMMARY:Northern Soul & Motown
DESCRIPTION:
URL:https://brokencrossclub.co.uk/event/northern-soul-motown-11/
LOCATION:Broken Cross Club\, Broken Cross\, Macclesfield\, SK11 8TU\, United Kingdom
CATEGORIES:Regular Events,Special Events
ATTACH;FMTTYPE=image/jpeg:https://brokencrossclub.co.uk/wp-content/uploads/2021/12/img002.jpg
END:VEVENT
BEGIN:VEVENT
DTSTART;TZID=Europe/London:20250913T210000
DTEND;TZID=Europe/London:20250913T233000
DTSTAMP:20260423T210727
CREATED:20221101T194843Z
LAST-MODIFIED:20250610T154307Z
UID:4506-1757797200-1757806200@brokencrossclub.co.uk
SUMMARY:Paul Waldron
DESCRIPTION:Top Class Male Vocalist\nMaking a Welcome Return
URL:https://brokencrossclub.co.uk/event/paul-waldron/
CATEGORIES:Saturday Night Entertainment
ATTACH;FMTTYPE=image/jpeg:https://brokencrossclub.co.uk/wp-content/uploads/2022/11/Paul-Waldron.jpg
END:VEVENT
BEGIN:VEVENT
DTSTART;TZID=Europe/London:20250921T130000
DTEND;TZID=Europe/London:20250921T170000
DTSTAMP:20260423T210727
CREATED:20250213T124215Z
LAST-MODIFIED:20250213T124215Z
UID:5295-1758459600-1758474000@brokencrossclub.co.uk
SUMMARY:Colin Paul  [solo]
DESCRIPTION:Needs no introduction \nPlus    DJ   Cadillac Dave\n 
URL:https://brokencrossclub.co.uk/event/colin-paul-solo/
CATEGORIES:Rock n Roll Nights
END:VEVENT
END:VCALENDAR