BEGIN:VCALENDAR
VERSION:2.0
PRODID:-//Broken Cross Club - ECPv6.15.20//NONSGML v1.0//EN
CALSCALE:GREGORIAN
METHOD:PUBLISH
X-ORIGINAL-URL:https://brokencrossclub.co.uk
X-WR-CALDESC:Events for Broken Cross Club
REFRESH-INTERVAL;VALUE=DURATION:PT1H
X-Robots-Tag:noindex
X-PUBLISHED-TTL:PT1H
BEGIN:VTIMEZONE
TZID:Europe/London
BEGIN:DAYLIGHT
TZOFFSETFROM:+0000
TZOFFSETTO:+0100
TZNAME:BST
DTSTART:20240331T010000
END:DAYLIGHT
BEGIN:STANDARD
TZOFFSETFROM:+0100
TZOFFSETTO:+0000
TZNAME:GMT
DTSTART:20241027T010000
END:STANDARD
BEGIN:DAYLIGHT
TZOFFSETFROM:+0000
TZOFFSETTO:+0100
TZNAME:BST
DTSTART:20250330T010000
END:DAYLIGHT
BEGIN:STANDARD
TZOFFSETFROM:+0100
TZOFFSETTO:+0000
TZNAME:GMT
DTSTART:20251026T010000
END:STANDARD
BEGIN:DAYLIGHT
TZOFFSETFROM:+0000
TZOFFSETTO:+0100
TZNAME:BST
DTSTART:20260329T010000
END:DAYLIGHT
BEGIN:STANDARD
TZOFFSETFROM:+0100
TZOFFSETTO:+0000
TZNAME:GMT
DTSTART:20261025T010000
END:STANDARD
END:VTIMEZONE
BEGIN:VEVENT
DTSTART;TZID=Europe/London:20250607T210000
DTEND;TZID=Europe/London:20250607T233000
DTSTAMP:20260424T023129
CREATED:20250214T105342Z
LAST-MODIFIED:20250214T105342Z
UID:5305-1749330000-1749339000@brokencrossclub.co.uk
SUMMARY:Blind Tiger
DESCRIPTION:5 piece covers band playing Classic Rock\, Pop and Indie songs from across the decades
URL:https://brokencrossclub.co.uk/event/blind-tiger-2/
CATEGORIES:Saturday Night Entertainment
ATTACH;FMTTYPE=image/jpeg:https://brokencrossclub.co.uk/wp-content/uploads/2024/02/Blind-Tiger.jpg
END:VEVENT
BEGIN:VEVENT
DTSTART;TZID=Europe/London:20250614T210000
DTEND;TZID=Europe/London:20250614T233000
DTSTAMP:20260424T023129
CREATED:20250214T110025Z
LAST-MODIFIED:20250214T110025Z
UID:5308-1749934800-1749943800@brokencrossclub.co.uk
SUMMARY:Bradley Fox
DESCRIPTION:Bradley has many years experience in the entertainment business\, he has performed internationally and all over the country in clubs as a singer and musician and drummer and he also got to perform as a support act on the Freddie Starr show at the north pier in Blackpool for a summer season\, Bradley is also IMDB credited in several feature films and tv series\, he brings is acting to his performance with his great personality and certainly sings songs to suite all music tastes\, he has top music equipment to cater for small to large venues his show is certainly not to be missed.
URL:https://brokencrossclub.co.uk/event/bradley-fox-2/
CATEGORIES:Saturday Night Entertainment
ATTACH;FMTTYPE=image/jpeg:https://brokencrossclub.co.uk/wp-content/uploads/2025/02/BRADLEY-FOX.jpg
END:VEVENT
BEGIN:VEVENT
DTSTART;TZID=Europe/London:20250615T130000
DTEND;TZID=Europe/London:20250615T170000
DTSTAMP:20260424T023129
CREATED:20250213T120802Z
LAST-MODIFIED:20250213T120802Z
UID:5286-1749992400-1750006800@brokencrossclub.co.uk
SUMMARY:Bobcats
DESCRIPTION:. \nThe Bobcats\, a renowned musical ensemble\, are masters of transporting audiences back to the golden era of the 1950s\, where the intoxicating melodies of Rock & Roll\, Rockabilly\, Doo Wop\, and Jive reigned supreme. With their distinctive rockabilly sound and energetic performances\, they have rightfully earned their place among the foremost performers on the music circuit\, captivating audiences both in the UK and on international stages for numerous years. \n  \nPlus   DJ  Cadillac Dave
URL:https://brokencrossclub.co.uk/event/bobcats/
CATEGORIES:Rock n Roll Nights
END:VEVENT
BEGIN:VEVENT
DTSTART;TZID=Europe/London:20250628T210000
DTEND;TZID=Europe/London:20250628T233000
DTSTAMP:20260424T023129
CREATED:20210903T114938Z
LAST-MODIFIED:20250214T110440Z
UID:4198-1751144400-1751153400@brokencrossclub.co.uk
SUMMARY:P J Loui
DESCRIPTION:P.J. Loui started his singing career in 1991. During his early years he performed in some of the local pubs and clubs in the Oldham and Tameside area. To promote his popularity even more\, he made an appearance on the “Michael Barrymore Show – My Kind Of People” where he featured the Elvis number “If I can dream”. \nThe years that followed saw P.J. make many appearances in the Greater Manchester Area where his popularity grew and grew. His impeccable vocal range saw him feature a huge variation of songs from all eras to modern day such as\, Elvis\, Michael Buble and more notably the Stylistics and Frankie Valli. It is this latter talent that has now enabled PJ Loui to perform a tribute to Frankie Valli and the Jersey Boys. \nHis phenomenal vocal range enables him to tackle any kind of music and his incredible gift of being able to adapt his voice for any kind song has seen him feature more widely and his talent is recognised as far as Yorkshire\, Birmingham and more recently the Wales Area. It is this extraordinary talent that has now seen him receive three Royal Command Performance Awards. \nAt this important point of his career\, it would appear that the success of this vocally multi-award winning artist has no limits or boundaries and his popularity will surely continue to grow and grow………..
URL:https://brokencrossclub.co.uk/event/p-j-loui/
CATEGORIES:Saturday Night Entertainment
ATTACH;FMTTYPE=image/jpeg:https://brokencrossclub.co.uk/wp-content/uploads/2019/11/PJ-Loui-SMALL-pic-5.jpg
END:VEVENT
END:VCALENDAR