BEGIN:VCALENDAR
VERSION:2.0
PRODID:-//Broken Cross Club - ECPv6.15.20//NONSGML v1.0//EN
CALSCALE:GREGORIAN
METHOD:PUBLISH
X-ORIGINAL-URL:https://brokencrossclub.co.uk
X-WR-CALDESC:Events for Broken Cross Club
REFRESH-INTERVAL;VALUE=DURATION:PT1H
X-Robots-Tag:noindex
X-PUBLISHED-TTL:PT1H
BEGIN:VTIMEZONE
TZID:Europe/London
BEGIN:DAYLIGHT
TZOFFSETFROM:+0000
TZOFFSETTO:+0100
TZNAME:BST
DTSTART:20240331T010000
END:DAYLIGHT
BEGIN:STANDARD
TZOFFSETFROM:+0100
TZOFFSETTO:+0000
TZNAME:GMT
DTSTART:20241027T010000
END:STANDARD
BEGIN:DAYLIGHT
TZOFFSETFROM:+0000
TZOFFSETTO:+0100
TZNAME:BST
DTSTART:20250330T010000
END:DAYLIGHT
BEGIN:STANDARD
TZOFFSETFROM:+0100
TZOFFSETTO:+0000
TZNAME:GMT
DTSTART:20251026T010000
END:STANDARD
BEGIN:DAYLIGHT
TZOFFSETFROM:+0000
TZOFFSETTO:+0100
TZNAME:BST
DTSTART:20260329T010000
END:DAYLIGHT
BEGIN:STANDARD
TZOFFSETFROM:+0100
TZOFFSETTO:+0000
TZNAME:GMT
DTSTART:20261025T010000
END:STANDARD
END:VTIMEZONE
BEGIN:VEVENT
DTSTART;TZID=Europe/London:20250405T210000
DTEND;TZID=Europe/London:20250405T233000
DTSTAMP:20260424T044045
CREATED:20220611T153204Z
LAST-MODIFIED:20250214T145026Z
UID:4453-1743886800-1743895800@brokencrossclub.co.uk
SUMMARY:Robert Marx
DESCRIPTION:
URL:https://brokencrossclub.co.uk/event/robert-marx/
LOCATION:Broken Cross Club\, Broken Cross\, Macclesfield\, SK11 8TU\, United Kingdom
CATEGORIES:Saturday Night Entertainment
END:VEVENT
BEGIN:VEVENT
DTSTART;TZID=Europe/London:20250412T210000
DTEND;TZID=Europe/London:20250412T233000
DTSTAMP:20260424T044045
CREATED:20181030T123144Z
LAST-MODIFIED:20241216T152214Z
UID:1853-1744491600-1744500600@brokencrossclub.co.uk
SUMMARY:David Marshall
DESCRIPTION:David is an accomplished professional singer and musician\, performing as a wedding singer & at corporate events\, parties and private shows for over 10 years. He is a versatile; tenor voice lends itself to many styles of music including Classical\, Rock\, Pop\, Jazz and Blues along with Show Tunes and Easy Listening.  A Natural Showman and Performer\, a professionally trained Singer and Musician of the highest quality. \n 
URL:https://brokencrossclub.co.uk/event/david-marshall/
CATEGORIES:Saturday Night Entertainment
END:VEVENT
BEGIN:VEVENT
DTSTART;TZID=Europe/London:20250419T200000
DTEND;TZID=Europe/London:20250419T200000
DTSTAMP:20260424T044045
CREATED:20250402T213614Z
LAST-MODIFIED:20250402T213614Z
UID:4503-1745092800-1745092800@brokencrossclub.co.uk
SUMMARY:John Burrows & Lynda Stephens
DESCRIPTION:Both these artist’s are well known to club and it promises to be a great night. \nThere will be NO Bingo on the night \n 
URL:https://brokencrossclub.co.uk/event/john-burrows-lynda-stephens/
CATEGORIES:Saturday Night Entertainment
END:VEVENT
BEGIN:VEVENT
DTSTART;TZID=Europe/London:20250420T130000
DTEND;TZID=Europe/London:20250420T170000
DTSTAMP:20260424T044045
CREATED:20250213T115919Z
LAST-MODIFIED:20250213T115919Z
UID:5279-1745154000-1745168400@brokencrossclub.co.uk
SUMMARY:Firebirds
DESCRIPTION:Firebirds Recognised as one of Europe’s top Rock ‘n’ Roll bands\, The Firebirds; Jim Plummer\, Dan Plummer\, Rich Lorriman and Paul Willmott\, four first class musicians/vocalists able to cover the complete spectrum of music from the 1950s and 1960s\, including rockabilly\, doo wop\, instrumentals and ballads. \nPlus    DJ  Cadillac Dave
URL:https://brokencrossclub.co.uk/event/firebirds/
CATEGORIES:Rock n Roll Nights
END:VEVENT
END:VCALENDAR