BEGIN:VCALENDAR
VERSION:2.0
PRODID:-//Broken Cross Club - ECPv6.15.20//NONSGML v1.0//EN
CALSCALE:GREGORIAN
METHOD:PUBLISH
X-ORIGINAL-URL:https://brokencrossclub.co.uk
X-WR-CALDESC:Events for Broken Cross Club
REFRESH-INTERVAL;VALUE=DURATION:PT1H
X-Robots-Tag:noindex
X-PUBLISHED-TTL:PT1H
BEGIN:VTIMEZONE
TZID:Europe/London
BEGIN:DAYLIGHT
TZOFFSETFROM:+0000
TZOFFSETTO:+0100
TZNAME:BST
DTSTART:20230326T010000
END:DAYLIGHT
BEGIN:STANDARD
TZOFFSETFROM:+0100
TZOFFSETTO:+0000
TZNAME:GMT
DTSTART:20231029T010000
END:STANDARD
BEGIN:DAYLIGHT
TZOFFSETFROM:+0000
TZOFFSETTO:+0100
TZNAME:BST
DTSTART:20240331T010000
END:DAYLIGHT
BEGIN:STANDARD
TZOFFSETFROM:+0100
TZOFFSETTO:+0000
TZNAME:GMT
DTSTART:20241027T010000
END:STANDARD
BEGIN:DAYLIGHT
TZOFFSETFROM:+0000
TZOFFSETTO:+0100
TZNAME:BST
DTSTART:20250330T010000
END:DAYLIGHT
BEGIN:STANDARD
TZOFFSETFROM:+0100
TZOFFSETTO:+0000
TZNAME:GMT
DTSTART:20251026T010000
END:STANDARD
END:VTIMEZONE
BEGIN:VEVENT
DTSTART;TZID=Europe/London:20241012T210000
DTEND;TZID=Europe/London:20241012T233000
DTSTAMP:20260424T165810
CREATED:20190723T153541Z
LAST-MODIFIED:20240712T184336Z
UID:3497-1728766800-1728775800@brokencrossclub.co.uk
SUMMARY:Paul K James
DESCRIPTION:Played the part of “Jake blues” in the official blues brothers worldwide tour for 8 years\, then went onto be lead singer with king rat and the soul kats\, always a natural comedian which has now been honed into a great comedy/ vocal act
URL:https://brokencrossclub.co.uk/event/bradley-fox/
CATEGORIES:Saturday Night Entertainment
ATTACH;FMTTYPE=image/jpeg:https://brokencrossclub.co.uk/wp-content/uploads/2019/07/Paul-K-James-2.jpg
END:VEVENT
BEGIN:VEVENT
DTSTART;TZID=Europe/London:20241019T210000
DTEND;TZID=Europe/London:20241019T233000
DTSTAMP:20260424T165810
CREATED:20240423T192951Z
LAST-MODIFIED:20240423T192951Z
UID:5200-1729371600-1729380600@brokencrossclub.co.uk
SUMMARY:John Malcolm
DESCRIPTION:Brilliant male vocal with a touch of Meatloaf.
URL:https://brokencrossclub.co.uk/event/john-malcolm/
CATEGORIES:Saturday Night Entertainment
ATTACH;FMTTYPE=image/jpeg:https://brokencrossclub.co.uk/wp-content/uploads/2024/04/John-Malcolm.jpg
END:VEVENT
BEGIN:VEVENT
DTSTART;TZID=Europe/London:20241025T200000
DTEND;TZID=Europe/London:20241025T233000
DTSTAMP:20260424T165810
CREATED:20241017T155406Z
LAST-MODIFIED:20241017T155406Z
UID:5239-1729886400-1729899000@brokencrossclub.co.uk
SUMMARY:Evening of Jaz and Swing
DESCRIPTION:
URL:https://brokencrossclub.co.uk/event/evening-of-jaz-and-swing/
CATEGORIES:Special Events
ATTACH;FMTTYPE=image/jpeg:https://brokencrossclub.co.uk/wp-content/uploads/2024/10/Big-Band.jpg
END:VEVENT
BEGIN:VEVENT
DTSTART;TZID=Europe/London:20241026T203000
DTEND;TZID=Europe/London:20241026T233000
DTSTAMP:20260424T165810
CREATED:20240529T103342Z
LAST-MODIFIED:20240529T103342Z
UID:5204-1729974600-1729985400@brokencrossclub.co.uk
SUMMARY:Michael Jackson Tribute
DESCRIPTION:  \n \n‘UNBREAKABLE is an exciting\, energy fuelled\, tribute to the King of Pop\, Michael Jackson starring MJRaw. \nWith replica costumes\, dazzling footwork\, stunning light show and rave reviews\, you are in for a THRILLER. \nEach song featured in the show has been specially made and edited to give you a feel of a live MJ show whilst enjoying the gravity defying moves and stage mannerisms that Chris executes to perfection alongside his fabulous dancers. \nHaving a background in various styles of dance\, Chris is more than qualified to bring Michaels magic to the stage and being a huge fan of the King of pop only helps drive him to deliver the best tribute he can to his idol. \nThere’s something for everyone in this exciting\, energetic show celebrating one of the greatest entertainers to ever grace a stage.’
URL:https://brokencrossclub.co.uk/event/michael-jackson-tribute/
CATEGORIES:Saturday Night Entertainment,Special Events
END:VEVENT
END:VCALENDAR