BEGIN:VCALENDAR
VERSION:2.0
PRODID:-//Broken Cross Club - ECPv6.15.20//NONSGML v1.0//EN
CALSCALE:GREGORIAN
METHOD:PUBLISH
X-ORIGINAL-URL:https://brokencrossclub.co.uk
X-WR-CALDESC:Events for Broken Cross Club
REFRESH-INTERVAL;VALUE=DURATION:PT1H
X-Robots-Tag:noindex
X-PUBLISHED-TTL:PT1H
BEGIN:VTIMEZONE
TZID:Europe/London
BEGIN:DAYLIGHT
TZOFFSETFROM:+0000
TZOFFSETTO:+0100
TZNAME:BST
DTSTART:20230326T010000
END:DAYLIGHT
BEGIN:STANDARD
TZOFFSETFROM:+0100
TZOFFSETTO:+0000
TZNAME:GMT
DTSTART:20231029T010000
END:STANDARD
BEGIN:DAYLIGHT
TZOFFSETFROM:+0000
TZOFFSETTO:+0100
TZNAME:BST
DTSTART:20240331T010000
END:DAYLIGHT
BEGIN:STANDARD
TZOFFSETFROM:+0100
TZOFFSETTO:+0000
TZNAME:GMT
DTSTART:20241027T010000
END:STANDARD
BEGIN:DAYLIGHT
TZOFFSETFROM:+0000
TZOFFSETTO:+0100
TZNAME:BST
DTSTART:20250330T010000
END:DAYLIGHT
BEGIN:STANDARD
TZOFFSETFROM:+0100
TZOFFSETTO:+0000
TZNAME:GMT
DTSTART:20251026T010000
END:STANDARD
END:VTIMEZONE
BEGIN:VEVENT
DTSTART;TZID=Europe/London:20240601T210000
DTEND;TZID=Europe/London:20240601T233000
DTSTAMP:20260424T210436
CREATED:20211014T190544Z
LAST-MODIFIED:20240121T141613Z
UID:4242-1717275600-1717284600@brokencrossclub.co.uk
SUMMARY:Richie
DESCRIPTION:Excellent Female Vocalist
URL:https://brokencrossclub.co.uk/event/richie/
CATEGORIES:Saturday Night Entertainment
ATTACH;FMTTYPE=image/jpeg:https://brokencrossclub.co.uk/wp-content/uploads/2021/10/Richie.jpg
END:VEVENT
BEGIN:VEVENT
DTSTART;TZID=Europe/London:20240622T210000
DTEND;TZID=Europe/London:20240622T233000
DTSTAMP:20260424T210436
CREATED:20240214T164100Z
LAST-MODIFIED:20240214T164100Z
UID:5164-1719090000-1719099000@brokencrossclub.co.uk
SUMMARY:David Kidd
DESCRIPTION:  \nThis is not a Tom Jones Tribute show\nDavid Kidd – The Voice of Sir Tom Jones has an impressive vocal range & an uncanny likeness to the great man himself. He has perfected the mannerisms & has all the charisma and stage presence of the Welsh living legend! \nHe attained fantastic exposure & reviews following his appearance on The Voice in 2014 performing to Sir Tom\, who was very complimentary with his feedback & impressed with David’s vocal range. Sir Tom made David’s dreams come true by giving him a standing ovation. David Kidd is one of the most requested Tom Jones Tributes & is regarded as an undeniably authentic top-notch act! \nDavid’s career spans over 25 years. Additionally\, he has followed in the footsteps of other Welsh vocal legends by singing with the Treorchy Male Voice Choir. David also did some promotion work for Britain’s got talent\, and after seeing David perform Simon Cowell was quoted David as being a cut above as a vocal tribute. \nDavid is a full time professional\, putting 100% effort into everything he does. Whether at home or abroad his talent is undeniable and his love of his craft shines at every show.
URL:https://brokencrossclub.co.uk/event/david-kidd/
CATEGORIES:Saturday Night Entertainment
ATTACH;FMTTYPE=image/jpeg:https://brokencrossclub.co.uk/wp-content/uploads/2024/02/David-Kidd-2024.jpg
END:VEVENT
END:VCALENDAR