BEGIN:VCALENDAR
VERSION:2.0
PRODID:-//Broken Cross Club - ECPv6.15.20//NONSGML v1.0//EN
CALSCALE:GREGORIAN
METHOD:PUBLISH
X-ORIGINAL-URL:https://brokencrossclub.co.uk
X-WR-CALDESC:Events for Broken Cross Club
REFRESH-INTERVAL;VALUE=DURATION:PT1H
X-Robots-Tag:noindex
X-PUBLISHED-TTL:PT1H
BEGIN:VTIMEZONE
TZID:Europe/London
BEGIN:DAYLIGHT
TZOFFSETFROM:+0000
TZOFFSETTO:+0100
TZNAME:BST
DTSTART:20230326T010000
END:DAYLIGHT
BEGIN:STANDARD
TZOFFSETFROM:+0100
TZOFFSETTO:+0000
TZNAME:GMT
DTSTART:20231029T010000
END:STANDARD
BEGIN:DAYLIGHT
TZOFFSETFROM:+0000
TZOFFSETTO:+0100
TZNAME:BST
DTSTART:20240331T010000
END:DAYLIGHT
BEGIN:STANDARD
TZOFFSETFROM:+0100
TZOFFSETTO:+0000
TZNAME:GMT
DTSTART:20241027T010000
END:STANDARD
BEGIN:DAYLIGHT
TZOFFSETFROM:+0000
TZOFFSETTO:+0100
TZNAME:BST
DTSTART:20250330T010000
END:DAYLIGHT
BEGIN:STANDARD
TZOFFSETFROM:+0100
TZOFFSETTO:+0000
TZNAME:GMT
DTSTART:20251026T010000
END:STANDARD
END:VTIMEZONE
BEGIN:VEVENT
DTSTART;TZID=Europe/London:20240406T210000
DTEND;TZID=Europe/London:20240406T233000
DTSTAMP:20260424T230751
CREATED:20210527T182213Z
LAST-MODIFIED:20231023T180019Z
UID:4128-1712437200-1712446200@brokencrossclub.co.uk
SUMMARY:Vince Hughes
DESCRIPTION:Rock n Roll Juke Box Show \nVINCE’S SINGING ABILITY CAME TO THE SURFACE WHEN THE KARAOKE CRAZE HIT THE UK\,\nVINCE FOUND HIS WAY ONTO THE HIT BRITISH TV SHOW “STARS IN THEIR EYES” AND WON HIS HEAT PERFORMING AS “DION” SINGING THE SONG “RUNAROUND SUE” \nVINCE THEN WENT ON TO PERFORM AT THE WORLD FAMOUS “LONDON PALLADIUM” HOSTING THE EVENT WHICH WAS A GRAND CHARITY GALA OPENING AND CLOSING THE SHOW\, AMAZINGLY VINCE HAS ALSO PERFORMED IN “LAS VEGAS”\, THE “ROYAL NORTHERN COLLEGE OF MUSIC” AND OTHER GREAT THEATRES ACROSS THE UK. \nVINCE NOW PERFORMS HIS “STARS IN THEIR EYES ROCK & ROLL JUKEBOX SHOW” THE LENGTH AND BREADTH OF THE UK AND ACROSS EUROPE WITH THE GREAT SOUNDS OF DIRTY DANCIN’\, GREASE\, THE JERSEYBOYS AND DREAMBOATS AND PETTICOATS\, WITH ALL THE FANTASTIC SOUNDS OF THE AMERICAN ROCK & ROLL SONG-BOOK.
URL:https://brokencrossclub.co.uk/event/vince-hughes/
CATEGORIES:Saturday Night Entertainment
ATTACH;FMTTYPE=image/jpeg:https://brokencrossclub.co.uk/wp-content/uploads/2021/05/Vince-Hughes-pic-1.jpg-sm.jpg
END:VEVENT
BEGIN:VEVENT
DTSTART;TZID=Europe/London:20240427T203000
DTEND;TZID=Europe/London:20240427T233000
DTSTAMP:20260424T230751
CREATED:20230426T184952Z
LAST-MODIFIED:20231022T132514Z
UID:5093-1714249800-1714260600@brokencrossclub.co.uk
SUMMARY:Jennifer Kaye
DESCRIPTION:Excellent Female Vocal Entertainer \nBack by popular request
URL:https://brokencrossclub.co.uk/event/claire-enfield/
CATEGORIES:Saturday Night Entertainment
ATTACH;FMTTYPE=image/jpeg:https://brokencrossclub.co.uk/wp-content/uploads/2023/04/Jennifer-Kaye-2.jpg
END:VEVENT
END:VCALENDAR