BEGIN:VCALENDAR
VERSION:2.0
PRODID:-//Broken Cross Club - ECPv6.15.20//NONSGML v1.0//EN
CALSCALE:GREGORIAN
METHOD:PUBLISH
X-WR-CALNAME:Broken Cross Club
X-ORIGINAL-URL:https://brokencrossclub.co.uk
X-WR-CALDESC:Events for Broken Cross Club
REFRESH-INTERVAL;VALUE=DURATION:PT1H
X-Robots-Tag:noindex
X-PUBLISHED-TTL:PT1H
BEGIN:VTIMEZONE
TZID:Europe/London
BEGIN:DAYLIGHT
TZOFFSETFROM:+0000
TZOFFSETTO:+0100
TZNAME:BST
DTSTART:20230326T010000
END:DAYLIGHT
BEGIN:STANDARD
TZOFFSETFROM:+0100
TZOFFSETTO:+0000
TZNAME:GMT
DTSTART:20231029T010000
END:STANDARD
BEGIN:DAYLIGHT
TZOFFSETFROM:+0000
TZOFFSETTO:+0100
TZNAME:BST
DTSTART:20240331T010000
END:DAYLIGHT
BEGIN:STANDARD
TZOFFSETFROM:+0100
TZOFFSETTO:+0000
TZNAME:GMT
DTSTART:20241027T010000
END:STANDARD
BEGIN:DAYLIGHT
TZOFFSETFROM:+0000
TZOFFSETTO:+0100
TZNAME:BST
DTSTART:20250330T010000
END:DAYLIGHT
BEGIN:STANDARD
TZOFFSETFROM:+0100
TZOFFSETTO:+0000
TZNAME:GMT
DTSTART:20251026T010000
END:STANDARD
END:VTIMEZONE
BEGIN:VEVENT
DTSTART;TZID=Europe/London:20240217T210000
DTEND;TZID=Europe/London:20240217T233000
DTSTAMP:20260425T012851
CREATED:20230426T183724Z
LAST-MODIFIED:20231022T135020Z
UID:5086-1708203600-1708212600@brokencrossclub.co.uk
SUMMARY:Matt Dalton
DESCRIPTION:Matt Dalton is an exceptionally talented vocalist and entertainer\, he adds energy and excitement to any event he performs at.
URL:https://brokencrossclub.co.uk/event/matt-dalton/
CATEGORIES:Saturday Night Entertainment
ATTACH;FMTTYPE=image/jpeg:https://brokencrossclub.co.uk/wp-content/uploads/2023/04/Matt-Dalton-.jpg
END:VEVENT
BEGIN:VEVENT
DTSTART;TZID=Europe/London:20240224T210000
DTEND;TZID=Europe/London:20240224T233000
DTSTAMP:20260425T012851
CREATED:20231022T140715Z
LAST-MODIFIED:20231022T140715Z
UID:5135-1708808400-1708817400@brokencrossclub.co.uk
SUMMARY:Stephen Maycock
DESCRIPTION:Stephen is a phenomenal Classical Crossover Vocalist with quick wit to amaze any audience. Performing hits from the West End\, Broadway and many more\, Stephens vocals will dazzle. From Opera to contemporary pop whether it’s a cabaret or a good old party\, Stephen will make any event one to remember. Stephen is a charming and charismatic vocalist from South Yorkshire\, that started his performing career in the holiday park industry back in 2016. From then he progressed in the industry performing in 5* hotels\, parks and resorts in the UK and overseas.
URL:https://brokencrossclub.co.uk/event/stephen-maycock/
CATEGORIES:Saturday Night Entertainment
ATTACH;FMTTYPE=image/jpeg:https://brokencrossclub.co.uk/wp-content/uploads/2023/10/STEPHEN-MAYCOCK_-002.jpg
END:VEVENT
END:VCALENDAR