BEGIN:VCALENDAR
VERSION:2.0
PRODID:-//Broken Cross Club - ECPv6.15.20//NONSGML v1.0//EN
CALSCALE:GREGORIAN
METHOD:PUBLISH
X-WR-CALNAME:Broken Cross Club
X-ORIGINAL-URL:https://brokencrossclub.co.uk
X-WR-CALDESC:Events for Broken Cross Club
REFRESH-INTERVAL;VALUE=DURATION:PT1H
X-Robots-Tag:noindex
X-PUBLISHED-TTL:PT1H
BEGIN:VTIMEZONE
TZID:Europe/London
BEGIN:DAYLIGHT
TZOFFSETFROM:+0000
TZOFFSETTO:+0100
TZNAME:BST
DTSTART:20240331T010000
END:DAYLIGHT
BEGIN:STANDARD
TZOFFSETFROM:+0100
TZOFFSETTO:+0000
TZNAME:GMT
DTSTART:20241027T010000
END:STANDARD
BEGIN:DAYLIGHT
TZOFFSETFROM:+0000
TZOFFSETTO:+0100
TZNAME:BST
DTSTART:20250330T010000
END:DAYLIGHT
BEGIN:STANDARD
TZOFFSETFROM:+0100
TZOFFSETTO:+0000
TZNAME:GMT
DTSTART:20251026T010000
END:STANDARD
BEGIN:DAYLIGHT
TZOFFSETFROM:+0000
TZOFFSETTO:+0100
TZNAME:BST
DTSTART:20260329T010000
END:DAYLIGHT
BEGIN:STANDARD
TZOFFSETFROM:+0100
TZOFFSETTO:+0000
TZNAME:GMT
DTSTART:20261025T010000
END:STANDARD
BEGIN:DAYLIGHT
TZOFFSETFROM:+0000
TZOFFSETTO:+0100
TZNAME:BST
DTSTART:20270328T010000
END:DAYLIGHT
BEGIN:STANDARD
TZOFFSETFROM:+0100
TZOFFSETTO:+0000
TZNAME:GMT
DTSTART:20271031T010000
END:STANDARD
END:VTIMEZONE
BEGIN:VEVENT
DTSTART;TZID=Europe/London:20260419T130000
DTEND;TZID=Europe/London:20260419T170000
DTSTAMP:20260419T195929
CREATED:20250612T183655Z
LAST-MODIFIED:20250612T183655Z
UID:5364-1776603600-1776618000@brokencrossclub.co.uk
SUMMARY:Rockin-em
DESCRIPTION:Rockin’ em are an exciting 3 piece 50’s style Rock ‘n’ Roll band guaranteed to stir up nostalgic memories of the 50’s even if you are not old enough to remember that far back! These guys will have you jiving and bopping and having a ball with great authentic sounds of Rock ‘n’ Roll. They play anything from Rock ‘n’ Roll classics to beautiful ballads.
URL:https://brokencrossclub.co.uk/event/rockin-em/
LOCATION:Broken Cross Club\, Broken Cross\, Macclesfield\, SK11 8TU\, United Kingdom
CATEGORIES:Rock n Roll Nights
END:VEVENT
BEGIN:VEVENT
DTSTART;TZID=Europe/London:20260322T130000
DTEND;TZID=Europe/London:20260322T170000
DTSTAMP:20260419T195929
CREATED:20250612T184438Z
LAST-MODIFIED:20250612T185114Z
UID:5367-1774184400-1774198800@brokencrossclub.co.uk
SUMMARY:Rockin The Joint
DESCRIPTION:Established in Dorset in 2001\, three piece Rockin’ the Joint are one of the UK’s leading rock and roll groups. \nThis experienced and talented trio of musicians can keep any dance floor busy with danceable tunes from the classic era of the 50’s and 60’s including songs by Elvis Presley\, Carl Perkins\, Johnny Burnette\, Chuck Berry and Eddie Cochran. They also perform songs from more contemporary artists like the Stray Cats\, Brian Setzer and J D McPherson. The repertoire also includes self-penned floor fillers like ‘Where Did it All Go Right’? from their popular studio album ‘9’\, still available by mail order or at live gigs.
URL:https://brokencrossclub.co.uk/event/rockin-the-joint/
LOCATION:Broken Cross Club\, Broken Cross\, Macclesfield\, SK11 8TU\, United Kingdom
CATEGORIES:Rock n Roll Nights
ATTACH;FMTTYPE=image/jpeg:https://brokencrossclub.co.uk/wp-content/uploads/2025/06/ROCKIN-THE-JOINT2-1024x768-1.jpg
END:VEVENT
BEGIN:VEVENT
DTSTART;TZID=Europe/London:20260215T130000
DTEND;TZID=Europe/London:20260215T170000
DTSTAMP:20260419T195929
CREATED:20250522T150927Z
LAST-MODIFIED:20250612T183938Z
UID:5353-1771160400-1771174800@brokencrossclub.co.uk
SUMMARY:Whisky Jean and The Chasers
DESCRIPTION:We Are 1950s style 6 Piece band\, with Both Female & Male Powerful lead Vocals!! In the Band we have Keys\, Lead Guitar\, Drums\, Double Bass & Rhythm Guitar. \nHaving both Male & Female lead vocals gives us a bit of a twist compared to most Rocking bands today\, and this enables us to be truly unique and  diverse with our choice of songs.  \nWhiskey Jean has also been likened to Little Miss Dynamite (Brenda lee) \nWhiskey Jean is such A petite person with such a big voice!!
URL:https://brokencrossclub.co.uk/event/whisky-jean-and-the-chasers/
LOCATION:Broken Cross Club\, Broken Cross\, Macclesfield\, SK11 8TU\, United Kingdom
CATEGORIES:Rock n Roll Nights
ATTACH;FMTTYPE=image/jpeg:https://brokencrossclub.co.uk/wp-content/uploads/2025/05/Whiskey-Jean.jpg
END:VEVENT
BEGIN:VEVENT
DTSTART;TZID=Europe/London:20260118T130000
DTEND;TZID=Europe/London:20260118T170000
DTSTAMP:20260419T195929
CREATED:20250620T122155Z
LAST-MODIFIED:20250620T122155Z
UID:5375-1768741200-1768755600@brokencrossclub.co.uk
SUMMARY:Thee Un-Named
DESCRIPTION:Fabulous Rock and Roll Band\,
URL:https://brokencrossclub.co.uk/event/thee-un-named/
LOCATION:Broken Cross Club\, Broken Cross\, Macclesfield\, SK11 8TU\, United Kingdom
CATEGORIES:Rock n Roll Nights
ATTACH;FMTTYPE=image/jpeg:https://brokencrossclub.co.uk/wp-content/uploads/2025/06/Thee-Un-named.jpg
END:VEVENT
BEGIN:VEVENT
DTSTART;TZID=Europe/London:20251116T130000
DTEND;TZID=Europe/London:20251116T170000
DTSTAMP:20260419T195929
CREATED:20250213T125222Z
LAST-MODIFIED:20250213T125222Z
UID:5302-1763298000-1763312400@brokencrossclub.co.uk
SUMMARY:C J Stewart
DESCRIPTION:C J Stewart  The Ultimate 50’s & 60’s Experience is a retro\, nostalgic-sounding collection of classic rock n’ roll songs. The songs performed are uncannily like the originals\, but with added panache and self-belief. You’ll recognise and love the sounds of Jive\, Doo-Wop\, Swing and Rock n Roll. The show is full of raw emotion and attitude!
URL:https://brokencrossclub.co.uk/event/c-j-stewart-2/
CATEGORIES:Rock n Roll Nights
END:VEVENT
BEGIN:VEVENT
DTSTART;TZID=Europe/London:20251019T130000
DTEND;TZID=Europe/London:20251019T170000
DTSTAMP:20260419T195929
CREATED:20250213T124933Z
LAST-MODIFIED:20250213T124933Z
UID:5299-1760878800-1760893200@brokencrossclub.co.uk
SUMMARY:Darrel Higham
DESCRIPTION:Darrel Higham is one of the most credible Rock n Roll musicians in the genre today. \nWest End theatre rolls\, huge selling international albums and appearances throughout the globe. \n  \nPlus   DJ Cadillac Dave
URL:https://brokencrossclub.co.uk/event/darrel-higham/
CATEGORIES:Rock n Roll Nights
END:VEVENT
BEGIN:VEVENT
DTSTART;TZID=Europe/London:20250921T130000
DTEND;TZID=Europe/London:20250921T170000
DTSTAMP:20260419T195929
CREATED:20250213T124215Z
LAST-MODIFIED:20250213T124215Z
UID:5295-1758459600-1758474000@brokencrossclub.co.uk
SUMMARY:Colin Paul  [solo]
DESCRIPTION:Needs no introduction \nPlus    DJ   Cadillac Dave\n 
URL:https://brokencrossclub.co.uk/event/colin-paul-solo/
CATEGORIES:Rock n Roll Nights
END:VEVENT
BEGIN:VEVENT
DTSTART;TZID=Europe/London:20250817T130000
DTEND;TZID=Europe/London:20250817T170000
DTSTAMP:20260419T195929
CREATED:20250213T123816Z
LAST-MODIFIED:20250213T124328Z
UID:5292-1755435600-1755450000@brokencrossclub.co.uk
SUMMARY:C J Stewart
DESCRIPTION:C J Stewart  The Ultimate 50’s & 60’s Experience is a retro\, nostalgic-sounding collection of classic rock n’ roll songs. The songs performed are uncannily like the originals\, but with added panache and self-belief. You’ll recognise and love the sounds of Jive\, Doo-Wop\, Swing and Rock n Roll. The show is full of raw emotion and attitude! \n  \nPlus  DJ   Cadillac Dave
URL:https://brokencrossclub.co.uk/event/c-j-stewart/
CATEGORIES:Rock n Roll Nights
END:VEVENT
BEGIN:VEVENT
DTSTART;TZID=Europe/London:20250615T130000
DTEND;TZID=Europe/London:20250615T170000
DTSTAMP:20260419T195929
CREATED:20250213T120802Z
LAST-MODIFIED:20250213T120802Z
UID:5286-1749992400-1750006800@brokencrossclub.co.uk
SUMMARY:Bobcats
DESCRIPTION:. \nThe Bobcats\, a renowned musical ensemble\, are masters of transporting audiences back to the golden era of the 1950s\, where the intoxicating melodies of Rock & Roll\, Rockabilly\, Doo Wop\, and Jive reigned supreme. With their distinctive rockabilly sound and energetic performances\, they have rightfully earned their place among the foremost performers on the music circuit\, captivating audiences both in the UK and on international stages for numerous years. \n  \nPlus   DJ  Cadillac Dave
URL:https://brokencrossclub.co.uk/event/bobcats/
CATEGORIES:Rock n Roll Nights
END:VEVENT
BEGIN:VEVENT
DTSTART;TZID=Europe/London:20250518T130000
DTEND;TZID=Europe/London:20250518T170000
DTSTAMP:20260419T195929
CREATED:20250213T120351Z
LAST-MODIFIED:20250213T120351Z
UID:5283-1747573200-1747587600@brokencrossclub.co.uk
SUMMARY:Kevin Davidge
DESCRIPTION:Kevin’s solo show will make you Rock\, Roll and laugh too!\nIt incorporates Rock n’ roll classics with his tributes to Ritchie Valens and the Big Bopper. \nPlus   DJ  Cadillac Dave
URL:https://brokencrossclub.co.uk/event/kevin-davidge/
CATEGORIES:Rock n Roll Nights
END:VEVENT
BEGIN:VEVENT
DTSTART;TZID=Europe/London:20250420T130000
DTEND;TZID=Europe/London:20250420T170000
DTSTAMP:20260419T195929
CREATED:20250213T115919Z
LAST-MODIFIED:20250213T115919Z
UID:5279-1745154000-1745168400@brokencrossclub.co.uk
SUMMARY:Firebirds
DESCRIPTION:Firebirds Recognised as one of Europe’s top Rock ‘n’ Roll bands\, The Firebirds; Jim Plummer\, Dan Plummer\, Rich Lorriman and Paul Willmott\, four first class musicians/vocalists able to cover the complete spectrum of music from the 1950s and 1960s\, including rockabilly\, doo wop\, instrumentals and ballads. \nPlus    DJ  Cadillac Dave
URL:https://brokencrossclub.co.uk/event/firebirds/
CATEGORIES:Rock n Roll Nights
END:VEVENT
END:VCALENDAR