BEGIN:VCALENDAR
VERSION:2.0
PRODID:-//Broken Cross Club - ECPv6.15.20//NONSGML v1.0//EN
CALSCALE:GREGORIAN
METHOD:PUBLISH
X-WR-CALNAME:Broken Cross Club
X-ORIGINAL-URL:https://brokencrossclub.co.uk
X-WR-CALDESC:Events for Broken Cross Club
REFRESH-INTERVAL;VALUE=DURATION:PT1H
X-Robots-Tag:noindex
X-PUBLISHED-TTL:PT1H
BEGIN:VTIMEZONE
TZID:Europe/London
BEGIN:DAYLIGHT
TZOFFSETFROM:+0000
TZOFFSETTO:+0100
TZNAME:BST
DTSTART:20250330T010000
END:DAYLIGHT
BEGIN:STANDARD
TZOFFSETFROM:+0100
TZOFFSETTO:+0000
TZNAME:GMT
DTSTART:20251026T010000
END:STANDARD
BEGIN:DAYLIGHT
TZOFFSETFROM:+0000
TZOFFSETTO:+0100
TZNAME:BST
DTSTART:20260329T010000
END:DAYLIGHT
BEGIN:STANDARD
TZOFFSETFROM:+0100
TZOFFSETTO:+0000
TZNAME:GMT
DTSTART:20261025T010000
END:STANDARD
BEGIN:DAYLIGHT
TZOFFSETFROM:+0000
TZOFFSETTO:+0100
TZNAME:BST
DTSTART:20270328T010000
END:DAYLIGHT
BEGIN:STANDARD
TZOFFSETFROM:+0100
TZOFFSETTO:+0000
TZNAME:GMT
DTSTART:20271031T010000
END:STANDARD
END:VTIMEZONE
BEGIN:VEVENT
DTSTART;TZID=Europe/London:20260816T130000
DTEND;TZID=Europe/London:20260816T170000
DTSTAMP:20260420T080711
CREATED:20250527T153915Z
LAST-MODIFIED:20250612T183820Z
UID:5360-1786885200-1786899600@brokencrossclub.co.uk
SUMMARY:The Roosters
DESCRIPTION:The ROOSTERS are a top UK Rock ‘n’ Roll band who will get you up dancing all afternoon? \nThe Roosters\, are a 3 piece Rock ‘n’ Roll band of dedicated musicians\, travelling throughout the UK. \nHaving played in many of the top rock ‘n’ roll locations\, the band members have played on the rockin’ 50’s scene for many years. \nTheir 4 albums – Rocket Trip\, Crazy Party\,  Rockin & Flying & Henhouse Riot – incorporate many well known rock ‘n’ roll songs from the 50s together with some lesser known ones – each played in their own individual Rooster style.
URL:https://brokencrossclub.co.uk/event/the-roosters/
LOCATION:Broken Cross Club\, Broken Cross\, Macclesfield\, SK11 8TU\, United Kingdom
CATEGORIES:Rock n Roll Nights
END:VEVENT
END:VCALENDAR