BEGIN:VCALENDAR
VERSION:2.0
PRODID:-//Broken Cross Club - ECPv6.15.20//NONSGML v1.0//EN
CALSCALE:GREGORIAN
METHOD:PUBLISH
X-ORIGINAL-URL:https://brokencrossclub.co.uk
X-WR-CALDESC:Events for Broken Cross Club
REFRESH-INTERVAL;VALUE=DURATION:PT1H
X-Robots-Tag:noindex
X-PUBLISHED-TTL:PT1H
BEGIN:VTIMEZONE
TZID:Europe/London
BEGIN:DAYLIGHT
TZOFFSETFROM:+0000
TZOFFSETTO:+0100
TZNAME:BST
DTSTART:20240331T010000
END:DAYLIGHT
BEGIN:STANDARD
TZOFFSETFROM:+0100
TZOFFSETTO:+0000
TZNAME:GMT
DTSTART:20241027T010000
END:STANDARD
BEGIN:DAYLIGHT
TZOFFSETFROM:+0000
TZOFFSETTO:+0100
TZNAME:BST
DTSTART:20250330T010000
END:DAYLIGHT
BEGIN:STANDARD
TZOFFSETFROM:+0100
TZOFFSETTO:+0000
TZNAME:GMT
DTSTART:20251026T010000
END:STANDARD
BEGIN:DAYLIGHT
TZOFFSETFROM:+0000
TZOFFSETTO:+0100
TZNAME:BST
DTSTART:20260329T010000
END:DAYLIGHT
BEGIN:STANDARD
TZOFFSETFROM:+0100
TZOFFSETTO:+0000
TZNAME:GMT
DTSTART:20261025T010000
END:STANDARD
END:VTIMEZONE
BEGIN:VEVENT
DTSTART;TZID=Europe/London:20251116T130000
DTEND;TZID=Europe/London:20251116T170000
DTSTAMP:20260420T065634
CREATED:20250213T125222Z
LAST-MODIFIED:20250213T125222Z
UID:5302-1763298000-1763312400@brokencrossclub.co.uk
SUMMARY:C J Stewart
DESCRIPTION:C J Stewart  The Ultimate 50’s & 60’s Experience is a retro\, nostalgic-sounding collection of classic rock n’ roll songs. The songs performed are uncannily like the originals\, but with added panache and self-belief. You’ll recognise and love the sounds of Jive\, Doo-Wop\, Swing and Rock n Roll. The show is full of raw emotion and attitude!
URL:https://brokencrossclub.co.uk/event/c-j-stewart-2/
CATEGORIES:Rock n Roll Nights
END:VEVENT
END:VCALENDAR