BEGIN:VCALENDAR
VERSION:2.0
PRODID:-//Broken Cross Club - ECPv6.15.20//NONSGML v1.0//EN
CALSCALE:GREGORIAN
METHOD:PUBLISH
X-WR-CALNAME:Broken Cross Club
X-ORIGINAL-URL:https://brokencrossclub.co.uk
X-WR-CALDESC:Events for Broken Cross Club
REFRESH-INTERVAL;VALUE=DURATION:PT1H
X-Robots-Tag:noindex
X-PUBLISHED-TTL:PT1H
BEGIN:VTIMEZONE
TZID:Europe/London
BEGIN:DAYLIGHT
TZOFFSETFROM:+0000
TZOFFSETTO:+0100
TZNAME:BST
DTSTART:20200329T010000
END:DAYLIGHT
BEGIN:STANDARD
TZOFFSETFROM:+0100
TZOFFSETTO:+0000
TZNAME:GMT
DTSTART:20201025T010000
END:STANDARD
BEGIN:DAYLIGHT
TZOFFSETFROM:+0000
TZOFFSETTO:+0100
TZNAME:BST
DTSTART:20210328T010000
END:DAYLIGHT
BEGIN:STANDARD
TZOFFSETFROM:+0100
TZOFFSETTO:+0000
TZNAME:GMT
DTSTART:20211031T010000
END:STANDARD
BEGIN:DAYLIGHT
TZOFFSETFROM:+0000
TZOFFSETTO:+0100
TZNAME:BST
DTSTART:20220327T010000
END:DAYLIGHT
BEGIN:STANDARD
TZOFFSETFROM:+0100
TZOFFSETTO:+0000
TZNAME:GMT
DTSTART:20221030T010000
END:STANDARD
BEGIN:DAYLIGHT
TZOFFSETFROM:+0000
TZOFFSETTO:+0100
TZNAME:BST
DTSTART:20230326T010000
END:DAYLIGHT
BEGIN:STANDARD
TZOFFSETFROM:+0100
TZOFFSETTO:+0000
TZNAME:GMT
DTSTART:20231029T010000
END:STANDARD
BEGIN:DAYLIGHT
TZOFFSETFROM:+0000
TZOFFSETTO:+0100
TZNAME:BST
DTSTART:20240331T010000
END:DAYLIGHT
BEGIN:STANDARD
TZOFFSETFROM:+0100
TZOFFSETTO:+0000
TZNAME:GMT
DTSTART:20241027T010000
END:STANDARD
END:VTIMEZONE
BEGIN:VEVENT
DTSTART;TZID=Europe/London:20230425T170000
DTEND;TZID=Europe/London:20230425T170000
DTSTAMP:20260421T173250
CREATED:20230424T162138Z
LAST-MODIFIED:20230424T162138Z
UID:5023-1682442000-1682442000@brokencrossclub.co.uk
SUMMARY:Apple Dance
DESCRIPTION:Acrobatic/gymnastics and Freestyle dance School. Boys and Girls aged 0-18 years. https://www.facebook.com/AppleDanceMacclesfield
URL:https://brokencrossclub.co.uk/event/apple-dance-31/
LOCATION:Broken Cross Club\, Broken Cross\, Macclesfield\, SK11 8TU\, United Kingdom
CATEGORIES:Regular Events
ATTACH;FMTTYPE=image/jpeg:https://brokencrossclub.co.uk/wp-content/uploads/2023/04/AppleDance.jpg
END:VEVENT
BEGIN:VEVENT
DTSTART;TZID=Europe/London:20230425T110000
DTEND;TZID=Europe/London:20230425T110000
DTSTAMP:20260421T173250
CREATED:20230424T160741Z
LAST-MODIFIED:20230424T160741Z
UID:4962-1682420400-1682420400@brokencrossclub.co.uk
SUMMARY:STRICTLY DANCE FIT CLASSES
DESCRIPTION:STRICTLY DANCE FIT CLASSES- No partner needed. Group fitness dance routines you can dance on your own following the instructor. Instructed by Mark AKA Marcolatino. One of Britain’s top ballroom and Latin Competitors. Years of dance experience\, choreographer and Fitsteps qualified.RUMBA\, SALSA\, CHA CHA\, JIVE\, MERENGUE\, BACHATA\, CHARLESTON\, MAMBO\, PASO DOBLE\, SAMBA AND OTHER DANCES.\nGreat Fun for all ages\, you can do it at your own pace\, for all ages \, as king as your are mobile. \nhttps://www.facebook.com/groups/3155600174452905/?ref=share
URL:https://brokencrossclub.co.uk/event/strictly-dance-fit-classes-16/
LOCATION:Broken Cross Club\, Broken Cross\, Macclesfield\, SK11 8TU\, United Kingdom
CATEGORIES:Regular Events
END:VEVENT
BEGIN:VEVENT
DTSTART;TZID=Europe/London:20220408T193000
DTEND;TZID=Europe/London:20220408T233000
DTSTAMP:20260421T173250
CREATED:20211206T192846Z
LAST-MODIFIED:20211206T192846Z
UID:4333-1649446200-1649460600@brokencrossclub.co.uk
SUMMARY:Northern Soul & Motown
DESCRIPTION:
URL:https://brokencrossclub.co.uk/event/northern-soul-motown-5/
CATEGORIES:Regular Events,Special Events
ATTACH;FMTTYPE=image/jpeg:https://brokencrossclub.co.uk/wp-content/uploads/2021/12/img002.jpg
END:VEVENT
BEGIN:VEVENT
DTSTART;TZID=Europe/London:20220311T193000
DTEND;TZID=Europe/London:20220311T233000
DTSTAMP:20260421T173250
CREATED:20211206T192704Z
LAST-MODIFIED:20211206T192704Z
UID:4330-1647027000-1647041400@brokencrossclub.co.uk
SUMMARY:Northern Soul & Motown
DESCRIPTION:
URL:https://brokencrossclub.co.uk/event/northern-soul-motown-4/
CATEGORIES:Regular Events,Special Events
ATTACH;FMTTYPE=image/jpeg:https://brokencrossclub.co.uk/wp-content/uploads/2021/12/img002.jpg
END:VEVENT
BEGIN:VEVENT
DTSTART;TZID=Europe/London:20220211T203000
DTEND;TZID=Europe/London:20220211T233000
DTSTAMP:20260421T173250
CREATED:20211206T192455Z
LAST-MODIFIED:20211206T192552Z
UID:4326-1644611400-1644622200@brokencrossclub.co.uk
SUMMARY:Northern Soul & Motown
DESCRIPTION:
URL:https://brokencrossclub.co.uk/event/northern-soul-motown-3/
CATEGORIES:Regular Events,Special Events
ATTACH;FMTTYPE=image/jpeg:https://brokencrossclub.co.uk/wp-content/uploads/2021/12/img002.jpg
END:VEVENT
BEGIN:VEVENT
DTSTART;TZID=Europe/London:20220114T200000
DTEND;TZID=Europe/London:20220114T233000
DTSTAMP:20260421T173250
CREATED:20211206T192320Z
LAST-MODIFIED:20211206T192320Z
UID:4323-1642190400-1642203000@brokencrossclub.co.uk
SUMMARY:Northern Soul & Motown
DESCRIPTION:
URL:https://brokencrossclub.co.uk/event/northern-soul-motown-2/
CATEGORIES:Regular Events,Special Events
ATTACH;FMTTYPE=image/jpeg:https://brokencrossclub.co.uk/wp-content/uploads/2021/12/img002.jpg
END:VEVENT
BEGIN:VEVENT
DTSTART;TZID=Europe/London:20211210T200000
DTEND;TZID=Europe/London:20211210T233000
DTSTAMP:20260421T173250
CREATED:20211206T192118Z
LAST-MODIFIED:20211206T192118Z
UID:4319-1639166400-1639179000@brokencrossclub.co.uk
SUMMARY:Northern Soul & Motown
DESCRIPTION:
URL:https://brokencrossclub.co.uk/event/northern-soul-motown/
CATEGORIES:Regular Events,Special Events
ATTACH;FMTTYPE=image/jpeg:https://brokencrossclub.co.uk/wp-content/uploads/2021/12/img002.jpg
END:VEVENT
BEGIN:VEVENT
DTSTART;TZID=Europe/London:20210519T193000
DTEND;TZID=Europe/London:20210519T193000
DTSTAMP:20260421T173250
CREATED:20210315T132241Z
LAST-MODIFIED:20210315T132241Z
UID:4048-1621452600-1621452600@brokencrossclub.co.uk
SUMMARY:Bingo
DESCRIPTION:
URL:https://brokencrossclub.co.uk/event/bingo-46/
LOCATION:Broken Cross Club\, Broken Cross\, Macclesfield\, SK11 8TU\, United Kingdom
CATEGORIES:Regular Events
ATTACH;FMTTYPE=image/jpeg:https://brokencrossclub.co.uk/wp-content/uploads/2018/01/Bingo.jpg
END:VEVENT
END:VCALENDAR