BEGIN:VCALENDAR
VERSION:2.0
PRODID:-//Broken Cross Club - ECPv6.15.20//NONSGML v1.0//EN
CALSCALE:GREGORIAN
METHOD:PUBLISH
X-ORIGINAL-URL:https://brokencrossclub.co.uk
X-WR-CALDESC:Events for Broken Cross Club
REFRESH-INTERVAL;VALUE=DURATION:PT1H
X-Robots-Tag:noindex
X-PUBLISHED-TTL:PT1H
BEGIN:VTIMEZONE
TZID:Europe/London
BEGIN:DAYLIGHT
TZOFFSETFROM:+0000
TZOFFSETTO:+0100
TZNAME:BST
DTSTART:20250330T010000
END:DAYLIGHT
BEGIN:STANDARD
TZOFFSETFROM:+0100
TZOFFSETTO:+0000
TZNAME:GMT
DTSTART:20251026T010000
END:STANDARD
BEGIN:DAYLIGHT
TZOFFSETFROM:+0000
TZOFFSETTO:+0100
TZNAME:BST
DTSTART:20260329T010000
END:DAYLIGHT
BEGIN:STANDARD
TZOFFSETFROM:+0100
TZOFFSETTO:+0000
TZNAME:GMT
DTSTART:20261025T010000
END:STANDARD
BEGIN:DAYLIGHT
TZOFFSETFROM:+0000
TZOFFSETTO:+0100
TZNAME:BST
DTSTART:20270328T010000
END:DAYLIGHT
BEGIN:STANDARD
TZOFFSETFROM:+0100
TZOFFSETTO:+0000
TZNAME:GMT
DTSTART:20271031T010000
END:STANDARD
END:VTIMEZONE
BEGIN:VEVENT
DTSTART;TZID=Europe/London:20260523T210000
DTEND;TZID=Europe/London:20260523T233000
DTSTAMP:20260423T151501
CREATED:20240828T103524Z
LAST-MODIFIED:20251009T141643Z
UID:5222-1779570000-1779579000@brokencrossclub.co.uk
SUMMARY:Babalola
DESCRIPTION:Babalola Jr presents his Motown and Soul Act\, a stunningly powerful and authentic tribute to Motown/Soul Legends. He presents a soulful voice and charismatic personality which makes him a popular and requested artist. \nFeaturing all the “Greatest Motown” and “Northern soul” hits: My Girl The Temptations\,  Out on the floor Dobie Gray\, Do I love you\, Frank Wilson\, How sweet it is Marvin Gaye\, I can’t help myself Four tops & many more… Superb sound and lighting systems accompany this outstanding show.
URL:https://brokencrossclub.co.uk/event/babalola/
CATEGORIES:Saturday Night Entertainment
ATTACH;FMTTYPE=image/jpeg:https://brokencrossclub.co.uk/wp-content/uploads/2024/08/Babalola-Creeme.jpg
END:VEVENT
END:VCALENDAR