BEGIN:VCALENDAR
VERSION:2.0
PRODID:-//Broken Cross Club - ECPv6.15.20//NONSGML v1.0//EN
CALSCALE:GREGORIAN
METHOD:PUBLISH
X-ORIGINAL-URL:https://brokencrossclub.co.uk
X-WR-CALDESC:Events for Broken Cross Club
REFRESH-INTERVAL;VALUE=DURATION:PT1H
X-Robots-Tag:noindex
X-PUBLISHED-TTL:PT1H
BEGIN:VTIMEZONE
TZID:Europe/London
BEGIN:DAYLIGHT
TZOFFSETFROM:+0000
TZOFFSETTO:+0100
TZNAME:BST
DTSTART:20250330T010000
END:DAYLIGHT
BEGIN:STANDARD
TZOFFSETFROM:+0100
TZOFFSETTO:+0000
TZNAME:GMT
DTSTART:20251026T010000
END:STANDARD
BEGIN:DAYLIGHT
TZOFFSETFROM:+0000
TZOFFSETTO:+0100
TZNAME:BST
DTSTART:20260329T010000
END:DAYLIGHT
BEGIN:STANDARD
TZOFFSETFROM:+0100
TZOFFSETTO:+0000
TZNAME:GMT
DTSTART:20261025T010000
END:STANDARD
BEGIN:DAYLIGHT
TZOFFSETFROM:+0000
TZOFFSETTO:+0100
TZNAME:BST
DTSTART:20270328T010000
END:DAYLIGHT
BEGIN:STANDARD
TZOFFSETFROM:+0100
TZOFFSETTO:+0000
TZNAME:GMT
DTSTART:20271031T010000
END:STANDARD
END:VTIMEZONE
BEGIN:VEVENT
DTSTART;TZID=Europe/London:20260425T210000
DTEND;TZID=Europe/London:20260425T233000
DTSTAMP:20260423T134157
CREATED:20190224T190418Z
LAST-MODIFIED:20251009T141305Z
UID:3264-1777150800-1777159800@brokencrossclub.co.uk
SUMMARY:Norman Anthony
DESCRIPTION:Norman Anthony\, a male soul and Motown singer\, possesses a voice that transcends time\, taking listeners on an emotional journey through the rich tapestry of his life experiences. His vocal range is a captivating blend of raw power and velvety smoothness\, echoing the legendary sounds of Lionel Richie\, Marvin Gaye\, and Otis Redding. Each note he sings tells a story\, delving deep into the heart of soul music. \n  \nOn stage\, Norman exudes a magnetic charisma that draws audiences into his world. His commanding presence speaks to the authenticity of his performances\, captivating both young and older generations alike. With his tall and elegant stature\, he embodies the timeless charm of classic Motown artists. \n  \nNorman’s connection to his music is unmistakable. His lyrics\, often introspective and deeply personal\, reflect his own journey through life’s triumphs and trials. He effortlessly conveys the pain of heartbreak and the joy of love\, resonating with listeners who have shared similar emotions. His music mirrors the soul\, capturing the universal human experiences that bind us all.
URL:https://brokencrossclub.co.uk/event/jason-oliver/
CATEGORIES:Saturday Night Entertainment
ATTACH;FMTTYPE=image/jpeg:https://brokencrossclub.co.uk/wp-content/uploads/2019/02/Norman-Anthony-2025.jpg
END:VEVENT
END:VCALENDAR