BEGIN:VCALENDAR
VERSION:2.0
PRODID:-//Broken Cross Club - ECPv6.15.20//NONSGML v1.0//EN
CALSCALE:GREGORIAN
METHOD:PUBLISH
X-ORIGINAL-URL:https://brokencrossclub.co.uk
X-WR-CALDESC:Events for Broken Cross Club
REFRESH-INTERVAL;VALUE=DURATION:PT1H
X-Robots-Tag:noindex
X-PUBLISHED-TTL:PT1H
BEGIN:VTIMEZONE
TZID:Europe/London
BEGIN:DAYLIGHT
TZOFFSETFROM:+0000
TZOFFSETTO:+0100
TZNAME:BST
DTSTART:20250330T010000
END:DAYLIGHT
BEGIN:STANDARD
TZOFFSETFROM:+0100
TZOFFSETTO:+0000
TZNAME:GMT
DTSTART:20251026T010000
END:STANDARD
BEGIN:DAYLIGHT
TZOFFSETFROM:+0000
TZOFFSETTO:+0100
TZNAME:BST
DTSTART:20260329T010000
END:DAYLIGHT
BEGIN:STANDARD
TZOFFSETFROM:+0100
TZOFFSETTO:+0000
TZNAME:GMT
DTSTART:20261025T010000
END:STANDARD
BEGIN:DAYLIGHT
TZOFFSETFROM:+0000
TZOFFSETTO:+0100
TZNAME:BST
DTSTART:20270328T010000
END:DAYLIGHT
BEGIN:STANDARD
TZOFFSETFROM:+0100
TZOFFSETTO:+0000
TZNAME:GMT
DTSTART:20271031T010000
END:STANDARD
END:VTIMEZONE
BEGIN:VEVENT
DTSTART;TZID=Europe/London:20260221T210000
DTEND;TZID=Europe/London:20260221T233000
DTSTAMP:20260423T163318
CREATED:20231022T142045Z
LAST-MODIFIED:20250925T164412Z
UID:5140-1771707600-1771716600@brokencrossclub.co.uk
SUMMARY:Phil Richmond
DESCRIPTION:Phil Richmond is a self contained professional singer with over 40 years experience singing all over the country.  He started as a musician/keyboard player backing artists all over the North West of England before becoming part of a duo and then various bands throughout his career before going solo.  Well known and very well thought of by venues he is unique in that his repertoire is diverse catering to all ages and genres. He is very experienced singing with live backing and has supported many a star over the years.  Energetic and charismatic Phil can have a crowd up and dancing the moment his set starts and nothing is too much trouble.  You will not be disappointed and will always want more!
URL:https://brokencrossclub.co.uk/event/phil-richmond-2/
LOCATION:Broken Cross Club\, Broken Cross\, Macclesfield\, SK11 8TU\, United Kingdom
CATEGORIES:Saturday Night Entertainment
ATTACH;FMTTYPE=image/jpeg:https://brokencrossclub.co.uk/wp-content/uploads/2023/10/Phil-Richmond.jpg
END:VEVENT
END:VCALENDAR