BEGIN:VCALENDAR
VERSION:2.0
PRODID:-//Broken Cross Club - ECPv6.15.20//NONSGML v1.0//EN
CALSCALE:GREGORIAN
METHOD:PUBLISH
X-ORIGINAL-URL:https://brokencrossclub.co.uk
X-WR-CALDESC:Events for Broken Cross Club
REFRESH-INTERVAL;VALUE=DURATION:PT1H
X-Robots-Tag:noindex
X-PUBLISHED-TTL:PT1H
BEGIN:VTIMEZONE
TZID:Europe/London
BEGIN:DAYLIGHT
TZOFFSETFROM:+0000
TZOFFSETTO:+0100
TZNAME:BST
DTSTART:20240331T010000
END:DAYLIGHT
BEGIN:STANDARD
TZOFFSETFROM:+0100
TZOFFSETTO:+0000
TZNAME:GMT
DTSTART:20241027T010000
END:STANDARD
BEGIN:DAYLIGHT
TZOFFSETFROM:+0000
TZOFFSETTO:+0100
TZNAME:BST
DTSTART:20250330T010000
END:DAYLIGHT
BEGIN:STANDARD
TZOFFSETFROM:+0100
TZOFFSETTO:+0000
TZNAME:GMT
DTSTART:20251026T010000
END:STANDARD
BEGIN:DAYLIGHT
TZOFFSETFROM:+0000
TZOFFSETTO:+0100
TZNAME:BST
DTSTART:20260329T010000
END:DAYLIGHT
BEGIN:STANDARD
TZOFFSETFROM:+0100
TZOFFSETTO:+0000
TZNAME:GMT
DTSTART:20261025T010000
END:STANDARD
END:VTIMEZONE
BEGIN:VEVENT
DTSTART;VALUE=DATE:20251227
DTEND;VALUE=DATE:20251228
DTSTAMP:20260423T184237
CREATED:20211016T105517Z
LAST-MODIFIED:20251009T162031Z
UID:4254-1766793600-1766879999@brokencrossclub.co.uk
SUMMARY:Open Darts Competition
DESCRIPTION:OPEN Singles Competition   \nPrize Fund : £1000 Guaranteed \n Winner – £400  /  Runner Up – £200  \n Semi-finalists £100 each       Last Eight – £25     Last Sixteen £12.50                \nLadies Competition   All money in – All money out  \n[ Guaranteed £100 1st prize ] \nEntry Fee £7 or £10 on day   \n8 boards – plus Stage set-up \n3 boards for Ladies Competition \nRegister from 10.00am – 11.00am     Toe the Oche 11.30am \nPhone Club 01625 431167 or Kathy 07765444541 \nE-mail    brokencrossclub@yahoo.co.uk   www.brokencrossclub.co.uk
URL:https://brokencrossclub.co.uk/event/open-darts-competition/
LOCATION:Broken Cross Club\, Broken Cross\, Macclesfield\, SK11 8TU\, United Kingdom
CATEGORIES:Special Events
END:VEVENT
END:VCALENDAR