BEGIN:VCALENDAR
VERSION:2.0
PRODID:-//Broken Cross Club - ECPv6.15.20//NONSGML v1.0//EN
CALSCALE:GREGORIAN
METHOD:PUBLISH
X-WR-CALNAME:Broken Cross Club
X-ORIGINAL-URL:https://brokencrossclub.co.uk
X-WR-CALDESC:Events for Broken Cross Club
REFRESH-INTERVAL;VALUE=DURATION:PT1H
X-Robots-Tag:noindex
X-PUBLISHED-TTL:PT1H
BEGIN:VTIMEZONE
TZID:Europe/London
BEGIN:DAYLIGHT
TZOFFSETFROM:+0000
TZOFFSETTO:+0100
TZNAME:BST
DTSTART:20240331T010000
END:DAYLIGHT
BEGIN:STANDARD
TZOFFSETFROM:+0100
TZOFFSETTO:+0000
TZNAME:GMT
DTSTART:20241027T010000
END:STANDARD
BEGIN:DAYLIGHT
TZOFFSETFROM:+0000
TZOFFSETTO:+0100
TZNAME:BST
DTSTART:20250330T010000
END:DAYLIGHT
BEGIN:STANDARD
TZOFFSETFROM:+0100
TZOFFSETTO:+0000
TZNAME:GMT
DTSTART:20251026T010000
END:STANDARD
BEGIN:DAYLIGHT
TZOFFSETFROM:+0000
TZOFFSETTO:+0100
TZNAME:BST
DTSTART:20260329T010000
END:DAYLIGHT
BEGIN:STANDARD
TZOFFSETFROM:+0100
TZOFFSETTO:+0000
TZNAME:GMT
DTSTART:20261025T010000
END:STANDARD
END:VTIMEZONE
BEGIN:VEVENT
DTSTART;TZID=Europe/London:20251213T190000
DTEND;TZID=Europe/London:20251213T233000
DTSTAMP:20260423T184149
CREATED:20210903T114513Z
LAST-MODIFIED:20250510T173400Z
UID:4195-1765652400-1765668600@brokencrossclub.co.uk
SUMMARY:Members only Party Night
DESCRIPTION:7.15pm FREE game of Bingo with £60 house prize\n \n7.30pm \nGeorgie is a top class vocalist with many years professional experience as a singer in the industry. \nShe has performed for audiences throughout the UK and internationally and alongside some of the industry’s leading professionals. \n8.15pm \nJohn Connolly is a highly accomplished Vocal Entertainer who gets regular repeat bookings. He can perform a wide range of popular songs from the ’60s to the present date including lots of modern material ensuring a party atmosphere all night long! \n9.00 pm 3 FREE games of Bingo with £60 house prize \n9.30pm FREE Take Your Pick : A number of prizes to be given away \n10.00pm – Georgie        10.45pm -John Conn0lly \nEntry by Free ticket available from bar. Membership cards must be shown
URL:https://brokencrossclub.co.uk/event/members-only-party-night/
CATEGORIES:Saturday Night Entertainment,Special Events
END:VEVENT
END:VCALENDAR