BEGIN:VCALENDAR
VERSION:2.0
PRODID:-//Broken Cross Club - ECPv6.15.20//NONSGML v1.0//EN
CALSCALE:GREGORIAN
METHOD:PUBLISH
X-WR-CALNAME:Broken Cross Club
X-ORIGINAL-URL:https://brokencrossclub.co.uk
X-WR-CALDESC:Events for Broken Cross Club
REFRESH-INTERVAL;VALUE=DURATION:PT1H
X-Robots-Tag:noindex
X-PUBLISHED-TTL:PT1H
BEGIN:VTIMEZONE
TZID:Europe/London
BEGIN:DAYLIGHT
TZOFFSETFROM:+0000
TZOFFSETTO:+0100
TZNAME:BST
DTSTART:20240331T010000
END:DAYLIGHT
BEGIN:STANDARD
TZOFFSETFROM:+0100
TZOFFSETTO:+0000
TZNAME:GMT
DTSTART:20241027T010000
END:STANDARD
BEGIN:DAYLIGHT
TZOFFSETFROM:+0000
TZOFFSETTO:+0100
TZNAME:BST
DTSTART:20250330T010000
END:DAYLIGHT
BEGIN:STANDARD
TZOFFSETFROM:+0100
TZOFFSETTO:+0000
TZNAME:GMT
DTSTART:20251026T010000
END:STANDARD
BEGIN:DAYLIGHT
TZOFFSETFROM:+0000
TZOFFSETTO:+0100
TZNAME:BST
DTSTART:20260329T010000
END:DAYLIGHT
BEGIN:STANDARD
TZOFFSETFROM:+0100
TZOFFSETTO:+0000
TZNAME:GMT
DTSTART:20261025T010000
END:STANDARD
END:VTIMEZONE
BEGIN:VEVENT
DTSTART;TZID=Europe/London:20251206T210000
DTEND;TZID=Europe/London:20251206T233000
DTSTAMP:20260423T184120
CREATED:20220611T152831Z
LAST-MODIFIED:20250803T135743Z
UID:4449-1765054800-1765063800@brokencrossclub.co.uk
SUMMARY:Nick Miller
DESCRIPTION:Nick Miller is a very well known personality vocalist based in the North West of England being a ‘Star Act’ for over 15 years. \nPreviously the front man of North West based Comedy Duo ‘Fungus and the Bogeyman’ Nick Miller is now a successful and most sought after solo act. \nNick has a great set list coverings popular hits of the 60s to dancefloor fillers of today \,interspersed with light hearted comedy banter creating a great warm and friendly party atmosphere wherever he performs .
URL:https://brokencrossclub.co.uk/event/nick-miller/
LOCATION:Broken Cross Club\, Broken Cross\, Macclesfield\, SK11 8TU\, United Kingdom
CATEGORIES:Saturday Night Entertainment
ATTACH;FMTTYPE=image/jpeg:https://brokencrossclub.co.uk/wp-content/uploads/2022/06/Nick-miller-comedy-vocalist-shout-2-150x150-1.jpg
END:VEVENT
END:VCALENDAR