BEGIN:VCALENDAR
VERSION:2.0
PRODID:-//Broken Cross Club - ECPv6.15.20//NONSGML v1.0//EN
CALSCALE:GREGORIAN
METHOD:PUBLISH
X-ORIGINAL-URL:https://brokencrossclub.co.uk
X-WR-CALDESC:Events for Broken Cross Club
REFRESH-INTERVAL;VALUE=DURATION:PT1H
X-Robots-Tag:noindex
X-PUBLISHED-TTL:PT1H
BEGIN:VTIMEZONE
TZID:Europe/London
BEGIN:DAYLIGHT
TZOFFSETFROM:+0000
TZOFFSETTO:+0100
TZNAME:BST
DTSTART:20240331T010000
END:DAYLIGHT
BEGIN:STANDARD
TZOFFSETFROM:+0100
TZOFFSETTO:+0000
TZNAME:GMT
DTSTART:20241027T010000
END:STANDARD
BEGIN:DAYLIGHT
TZOFFSETFROM:+0000
TZOFFSETTO:+0100
TZNAME:BST
DTSTART:20250330T010000
END:DAYLIGHT
BEGIN:STANDARD
TZOFFSETFROM:+0100
TZOFFSETTO:+0000
TZNAME:GMT
DTSTART:20251026T010000
END:STANDARD
BEGIN:DAYLIGHT
TZOFFSETFROM:+0000
TZOFFSETTO:+0100
TZNAME:BST
DTSTART:20260329T010000
END:DAYLIGHT
BEGIN:STANDARD
TZOFFSETFROM:+0100
TZOFFSETTO:+0000
TZNAME:GMT
DTSTART:20261025T010000
END:STANDARD
END:VTIMEZONE
BEGIN:VEVENT
DTSTART;TZID=Europe/London:20250823T210000
DTEND;TZID=Europe/London:20250823T233000
DTSTAMP:20260423T231006
CREATED:20240825T121848Z
LAST-MODIFIED:20250214T113122Z
UID:5216-1755982800-1755991800@brokencrossclub.co.uk
SUMMARY:Debbie La Vene
DESCRIPTION:An established singer with many years experience\, Debbie’s incredible voice can deliver any song genre with both style and panache.\nA vivacious lady with a powerful voice\, she delivers a dramatic performance with passion and professionalism.\nDebbie has the ability to adapt her style and vocals to capture the mood of gentle love songs to raunchy pop classics which continue to captivate her audience.
URL:https://brokencrossclub.co.uk/event/debbie-la-vene/
CATEGORIES:Saturday Night Entertainment
ATTACH;FMTTYPE=image/jpeg:https://brokencrossclub.co.uk/wp-content/uploads/2024/08/Debbie-la-vene.jpg
END:VEVENT
END:VCALENDAR