BEGIN:VCALENDAR
VERSION:2.0
PRODID:-//Broken Cross Club - ECPv6.15.20//NONSGML v1.0//EN
CALSCALE:GREGORIAN
METHOD:PUBLISH
X-ORIGINAL-URL:https://brokencrossclub.co.uk
X-WR-CALDESC:Events for Broken Cross Club
REFRESH-INTERVAL;VALUE=DURATION:PT1H
X-Robots-Tag:noindex
X-PUBLISHED-TTL:PT1H
BEGIN:VTIMEZONE
TZID:Europe/London
BEGIN:DAYLIGHT
TZOFFSETFROM:+0000
TZOFFSETTO:+0100
TZNAME:BST
DTSTART:20240331T010000
END:DAYLIGHT
BEGIN:STANDARD
TZOFFSETFROM:+0100
TZOFFSETTO:+0000
TZNAME:GMT
DTSTART:20241027T010000
END:STANDARD
BEGIN:DAYLIGHT
TZOFFSETFROM:+0000
TZOFFSETTO:+0100
TZNAME:BST
DTSTART:20250330T010000
END:DAYLIGHT
BEGIN:STANDARD
TZOFFSETFROM:+0100
TZOFFSETTO:+0000
TZNAME:GMT
DTSTART:20251026T010000
END:STANDARD
BEGIN:DAYLIGHT
TZOFFSETFROM:+0000
TZOFFSETTO:+0100
TZNAME:BST
DTSTART:20260329T010000
END:DAYLIGHT
BEGIN:STANDARD
TZOFFSETFROM:+0100
TZOFFSETTO:+0000
TZNAME:GMT
DTSTART:20261025T010000
END:STANDARD
END:VTIMEZONE
BEGIN:VEVENT
DTSTART;TZID=Europe/London:20250802T190000
DTEND;TZID=Europe/London:20250802T233000
DTSTAMP:20260423T231025
CREATED:20220425T191345Z
LAST-MODIFIED:20250207T181022Z
UID:4394-1754161200-1754177400@brokencrossclub.co.uk
SUMMARY:Ricky Aron's Elvis Show
DESCRIPTION:
URL:https://brokencrossclub.co.uk/event/ricky-arons-elvis-show/
CATEGORIES:Special Events
ATTACH;FMTTYPE=image/png:https://brokencrossclub.co.uk/wp-content/uploads/2022/04/Rickys-Elvis-show-1.png
END:VEVENT
END:VCALENDAR