BEGIN:VCALENDAR
VERSION:2.0
PRODID:-//Broken Cross Club - ECPv6.15.20//NONSGML v1.0//EN
CALSCALE:GREGORIAN
METHOD:PUBLISH
X-ORIGINAL-URL:https://brokencrossclub.co.uk
X-WR-CALDESC:Events for Broken Cross Club
REFRESH-INTERVAL;VALUE=DURATION:PT1H
X-Robots-Tag:noindex
X-PUBLISHED-TTL:PT1H
BEGIN:VTIMEZONE
TZID:Europe/London
BEGIN:DAYLIGHT
TZOFFSETFROM:+0000
TZOFFSETTO:+0100
TZNAME:BST
DTSTART:20240331T010000
END:DAYLIGHT
BEGIN:STANDARD
TZOFFSETFROM:+0100
TZOFFSETTO:+0000
TZNAME:GMT
DTSTART:20241027T010000
END:STANDARD
BEGIN:DAYLIGHT
TZOFFSETFROM:+0000
TZOFFSETTO:+0100
TZNAME:BST
DTSTART:20250330T010000
END:DAYLIGHT
BEGIN:STANDARD
TZOFFSETFROM:+0100
TZOFFSETTO:+0000
TZNAME:GMT
DTSTART:20251026T010000
END:STANDARD
BEGIN:DAYLIGHT
TZOFFSETFROM:+0000
TZOFFSETTO:+0100
TZNAME:BST
DTSTART:20260329T010000
END:DAYLIGHT
BEGIN:STANDARD
TZOFFSETFROM:+0100
TZOFFSETTO:+0000
TZNAME:GMT
DTSTART:20261025T010000
END:STANDARD
END:VTIMEZONE
BEGIN:VEVENT
DTSTART;TZID=Europe/London:20250719T210000
DTEND;TZID=Europe/London:20250719T233000
DTSTAMP:20260424T012322
CREATED:20250214T111933Z
LAST-MODIFIED:20250713T181102Z
UID:5317-1752958800-1752967800@brokencrossclub.co.uk
SUMMARY:Midnite Blue
DESCRIPTION:﻿Having been friends from the age of five and working together in various different acts\nfrom their teen years to the present day including a 5 piece recording rock band\, a 4 piece\nrock covers band and a successful trio ( Dreamcatcher )\, Chris and Collie rely mostly on\ntheir professional outlook and experience to make sure every night is a great night. Chris\,\na very versatile and talented singer can sing his way through classics such as The Hollies\n‘Air That I Breathe’ to Mr Idol’s ‘White Wedding’ and all that sit in between. Collie\, a\npassionate guitarist whose talent to sit in the mix but make his guitar scream when\nneeded also covers the backing vocals with ease.
URL:https://brokencrossclub.co.uk/event/midnite-blue/
LOCATION:Broken Cross Club\, Broken Cross\, Macclesfield\, SK11 8TU\, United Kingdom
CATEGORIES:Saturday Night Entertainment
ATTACH;FMTTYPE=image/jpeg:https://brokencrossclub.co.uk/wp-content/uploads/2025/02/Midnite-Blue.jpg
END:VEVENT
END:VCALENDAR