BEGIN:VCALENDAR
VERSION:2.0
PRODID:-//Broken Cross Club - ECPv6.15.20//NONSGML v1.0//EN
CALSCALE:GREGORIAN
METHOD:PUBLISH
X-ORIGINAL-URL:https://brokencrossclub.co.uk
X-WR-CALDESC:Events for Broken Cross Club
REFRESH-INTERVAL;VALUE=DURATION:PT1H
X-Robots-Tag:noindex
X-PUBLISHED-TTL:PT1H
BEGIN:VTIMEZONE
TZID:Europe/London
BEGIN:DAYLIGHT
TZOFFSETFROM:+0000
TZOFFSETTO:+0100
TZNAME:BST
DTSTART:20240331T010000
END:DAYLIGHT
BEGIN:STANDARD
TZOFFSETFROM:+0100
TZOFFSETTO:+0000
TZNAME:GMT
DTSTART:20241027T010000
END:STANDARD
BEGIN:DAYLIGHT
TZOFFSETFROM:+0000
TZOFFSETTO:+0100
TZNAME:BST
DTSTART:20250330T010000
END:DAYLIGHT
BEGIN:STANDARD
TZOFFSETFROM:+0100
TZOFFSETTO:+0000
TZNAME:GMT
DTSTART:20251026T010000
END:STANDARD
BEGIN:DAYLIGHT
TZOFFSETFROM:+0000
TZOFFSETTO:+0100
TZNAME:BST
DTSTART:20260329T010000
END:DAYLIGHT
BEGIN:STANDARD
TZOFFSETFROM:+0100
TZOFFSETTO:+0000
TZNAME:GMT
DTSTART:20261025T010000
END:STANDARD
END:VTIMEZONE
BEGIN:VEVENT
DTSTART;TZID=Europe/London:20250705T210000
DTEND;TZID=Europe/London:20250705T210000
DTSTAMP:20260424T023101
CREATED:20250214T110935Z
LAST-MODIFIED:20250214T111408Z
UID:5313-1751749200-1751749200@brokencrossclub.co.uk
SUMMARY:Scott Unsworth
DESCRIPTION:Scott hails from the North West of England and has been performing all his life. He first started out performing in Hotels throughout the UK including Warner and Britannia. His vocal talents have taken him all over the world from Europe to America to the Caribbean and Asia performing on Luxury Cruise Ships like NCL\, Holland and America\, Costa\, Fred Olsen and Saga. Over the years Scott has performed with the male harmony group the Overclones doing a UK tour and more recently has joined the male harmony group The Merseyboys who perform throughout the northwest and also as guest entertainers onboard Luxury Cruise Ships. Scott also does his own Solo Cabaret Show and can tailor each and every event to your needs.. His vast range enables him to cover many different songs and genres from pop\, swing\, rock\, soul & motown\, musical theatre and classical.
URL:https://brokencrossclub.co.uk/event/scott-unsworth/
CATEGORIES:Saturday Night Entertainment
ATTACH;FMTTYPE=image/jpeg:https://brokencrossclub.co.uk/wp-content/uploads/2025/02/SCOTT-UNSWORTH.jpg
END:VEVENT
END:VCALENDAR