BEGIN:VCALENDAR
VERSION:2.0
PRODID:-//Broken Cross Club - ECPv6.15.20//NONSGML v1.0//EN
CALSCALE:GREGORIAN
METHOD:PUBLISH
X-WR-CALNAME:Broken Cross Club
X-ORIGINAL-URL:https://brokencrossclub.co.uk
X-WR-CALDESC:Events for Broken Cross Club
REFRESH-INTERVAL;VALUE=DURATION:PT1H
X-Robots-Tag:noindex
X-PUBLISHED-TTL:PT1H
BEGIN:VTIMEZONE
TZID:Europe/London
BEGIN:DAYLIGHT
TZOFFSETFROM:+0000
TZOFFSETTO:+0100
TZNAME:BST
DTSTART:20240331T010000
END:DAYLIGHT
BEGIN:STANDARD
TZOFFSETFROM:+0100
TZOFFSETTO:+0000
TZNAME:GMT
DTSTART:20241027T010000
END:STANDARD
BEGIN:DAYLIGHT
TZOFFSETFROM:+0000
TZOFFSETTO:+0100
TZNAME:BST
DTSTART:20250330T010000
END:DAYLIGHT
BEGIN:STANDARD
TZOFFSETFROM:+0100
TZOFFSETTO:+0000
TZNAME:GMT
DTSTART:20251026T010000
END:STANDARD
BEGIN:DAYLIGHT
TZOFFSETFROM:+0000
TZOFFSETTO:+0100
TZNAME:BST
DTSTART:20260329T010000
END:DAYLIGHT
BEGIN:STANDARD
TZOFFSETFROM:+0100
TZOFFSETTO:+0000
TZNAME:GMT
DTSTART:20261025T010000
END:STANDARD
END:VTIMEZONE
BEGIN:VEVENT
DTSTART;TZID=Europe/London:20250412T210000
DTEND;TZID=Europe/London:20250412T233000
DTSTAMP:20260424T053954
CREATED:20181030T123144Z
LAST-MODIFIED:20241216T152214Z
UID:1853-1744491600-1744500600@brokencrossclub.co.uk
SUMMARY:David Marshall
DESCRIPTION:David is an accomplished professional singer and musician\, performing as a wedding singer & at corporate events\, parties and private shows for over 10 years. He is a versatile; tenor voice lends itself to many styles of music including Classical\, Rock\, Pop\, Jazz and Blues along with Show Tunes and Easy Listening.  A Natural Showman and Performer\, a professionally trained Singer and Musician of the highest quality. \n 
URL:https://brokencrossclub.co.uk/event/david-marshall/
CATEGORIES:Saturday Night Entertainment
END:VEVENT
END:VCALENDAR