BEGIN:VCALENDAR
VERSION:2.0
PRODID:-//Broken Cross Club - ECPv6.15.20//NONSGML v1.0//EN
CALSCALE:GREGORIAN
METHOD:PUBLISH
X-ORIGINAL-URL:https://brokencrossclub.co.uk
X-WR-CALDESC:Events for Broken Cross Club
REFRESH-INTERVAL;VALUE=DURATION:PT1H
X-Robots-Tag:noindex
X-PUBLISHED-TTL:PT1H
BEGIN:VTIMEZONE
TZID:Europe/London
BEGIN:DAYLIGHT
TZOFFSETFROM:+0000
TZOFFSETTO:+0100
TZNAME:BST
DTSTART:20240331T010000
END:DAYLIGHT
BEGIN:STANDARD
TZOFFSETFROM:+0100
TZOFFSETTO:+0000
TZNAME:GMT
DTSTART:20241027T010000
END:STANDARD
BEGIN:DAYLIGHT
TZOFFSETFROM:+0000
TZOFFSETTO:+0100
TZNAME:BST
DTSTART:20250330T010000
END:DAYLIGHT
BEGIN:STANDARD
TZOFFSETFROM:+0100
TZOFFSETTO:+0000
TZNAME:GMT
DTSTART:20251026T010000
END:STANDARD
BEGIN:DAYLIGHT
TZOFFSETFROM:+0000
TZOFFSETTO:+0100
TZNAME:BST
DTSTART:20260329T010000
END:DAYLIGHT
BEGIN:STANDARD
TZOFFSETFROM:+0100
TZOFFSETTO:+0000
TZNAME:GMT
DTSTART:20261025T010000
END:STANDARD
END:VTIMEZONE
BEGIN:VEVENT
DTSTART;TZID=Europe/London:20250322T203000
DTEND;TZID=Europe/London:20250322T233000
DTSTAMP:20260424T065045
CREATED:20230825T191851Z
LAST-MODIFIED:20250303T160418Z
UID:5118-1742675400-1742686200@brokencrossclub.co.uk
SUMMARY:Carl Brent
DESCRIPTION:Cabaret\, Comedy\, Impressions\, Singing. \nFor many years Carl Brent has been entertaining audiences throughout the UK and abroad with his uniquely captivating comedy style. \n  \nCarl has been fortunate enough to have shared the stage with many top international stars\, and has received critical acclaim in professional publications such as ‘The Stage’ and many local and national entertainment reviews. \nCarl’s performances have been described as having a truly wide appeal. His life-like impressions\, ranging from Joe Pasquale to Elvis to Victor Meldrew and many more characters are all confidently delivered and amazingly accurate. \nCarl’s show can only be described as entertainment with a capital ‘E’!
URL:https://brokencrossclub.co.uk/event/carl-brent/
CATEGORIES:Saturday Night Entertainment
ATTACH;FMTTYPE=image/jpeg:https://brokencrossclub.co.uk/wp-content/uploads/2023/08/CARL-Brent.jpg
END:VEVENT
END:VCALENDAR