BEGIN:VCALENDAR
VERSION:2.0
PRODID:-//Broken Cross Club - ECPv6.15.20//NONSGML v1.0//EN
CALSCALE:GREGORIAN
METHOD:PUBLISH
X-WR-CALNAME:Broken Cross Club
X-ORIGINAL-URL:https://brokencrossclub.co.uk
X-WR-CALDESC:Events for Broken Cross Club
REFRESH-INTERVAL;VALUE=DURATION:PT1H
X-Robots-Tag:noindex
X-PUBLISHED-TTL:PT1H
BEGIN:VTIMEZONE
TZID:Europe/London
BEGIN:DAYLIGHT
TZOFFSETFROM:+0000
TZOFFSETTO:+0100
TZNAME:BST
DTSTART:20240331T010000
END:DAYLIGHT
BEGIN:STANDARD
TZOFFSETFROM:+0100
TZOFFSETTO:+0000
TZNAME:GMT
DTSTART:20241027T010000
END:STANDARD
BEGIN:DAYLIGHT
TZOFFSETFROM:+0000
TZOFFSETTO:+0100
TZNAME:BST
DTSTART:20250330T010000
END:DAYLIGHT
BEGIN:STANDARD
TZOFFSETFROM:+0100
TZOFFSETTO:+0000
TZNAME:GMT
DTSTART:20251026T010000
END:STANDARD
BEGIN:DAYLIGHT
TZOFFSETFROM:+0000
TZOFFSETTO:+0100
TZNAME:BST
DTSTART:20260329T010000
END:DAYLIGHT
BEGIN:STANDARD
TZOFFSETFROM:+0100
TZOFFSETTO:+0000
TZNAME:GMT
DTSTART:20261025T010000
END:STANDARD
END:VTIMEZONE
BEGIN:VEVENT
DTSTART;TZID=Europe/London:20250126T130000
DTEND;TZID=Europe/London:20250126T170000
DTSTAMP:20260424T091920
CREATED:20241016T190443Z
LAST-MODIFIED:20241222T142556Z
UID:5229-1737896400-1737910800@brokencrossclub.co.uk
SUMMARY:Charity Rock 'n' Roll afternoon
DESCRIPTION:In aid of the Macclesfield Christie Hospital\n \nPhil Haley and His Comments set the stage alight with one of the hottest shows around. \nGet ready to Rock Around The Clock\, Rip It Up and Shake\, Rattle and Roll. \nWe’ll See You Later Alligator for this incredible live show\, featuring not only all the big Bill Haley hits but a lot of their own material too. \n  \nand supported by \n                             DJ Cadillac Dave
URL:https://brokencrossclub.co.uk/event/charity-rock-n-roll-afternoon/
CATEGORIES:Special Events
ATTACH;FMTTYPE=image/jpeg:https://brokencrossclub.co.uk/wp-content/uploads/2024/10/retrobeats-794x600-1.jpg
END:VEVENT
END:VCALENDAR