BEGIN:VCALENDAR
VERSION:2.0
PRODID:-//Broken Cross Club - ECPv6.15.20//NONSGML v1.0//EN
CALSCALE:GREGORIAN
METHOD:PUBLISH
X-WR-CALNAME:Broken Cross Club
X-ORIGINAL-URL:https://brokencrossclub.co.uk
X-WR-CALDESC:Events for Broken Cross Club
REFRESH-INTERVAL;VALUE=DURATION:PT1H
X-Robots-Tag:noindex
X-PUBLISHED-TTL:PT1H
BEGIN:VTIMEZONE
TZID:Europe/London
BEGIN:DAYLIGHT
TZOFFSETFROM:+0000
TZOFFSETTO:+0100
TZNAME:BST
DTSTART:20240331T010000
END:DAYLIGHT
BEGIN:STANDARD
TZOFFSETFROM:+0100
TZOFFSETTO:+0000
TZNAME:GMT
DTSTART:20241027T010000
END:STANDARD
BEGIN:DAYLIGHT
TZOFFSETFROM:+0000
TZOFFSETTO:+0100
TZNAME:BST
DTSTART:20250330T010000
END:DAYLIGHT
BEGIN:STANDARD
TZOFFSETFROM:+0100
TZOFFSETTO:+0000
TZNAME:GMT
DTSTART:20251026T010000
END:STANDARD
BEGIN:DAYLIGHT
TZOFFSETFROM:+0000
TZOFFSETTO:+0100
TZNAME:BST
DTSTART:20260329T010000
END:DAYLIGHT
BEGIN:STANDARD
TZOFFSETFROM:+0100
TZOFFSETTO:+0000
TZNAME:GMT
DTSTART:20261025T010000
END:STANDARD
END:VTIMEZONE
BEGIN:VEVENT
DTSTART;TZID=Europe/London:20250104T210000
DTEND;TZID=Europe/London:20250104T233000
DTSTAMP:20260424T091910
CREATED:20211111T193133Z
LAST-MODIFIED:20240823T185957Z
UID:4296-1736024400-1736033400@brokencrossclub.co.uk
SUMMARY:Steve Hunter
DESCRIPTION:Steve is an award winning Vocalist who has been featured on local TV with his band “Committed 2 Blues & RumbleFatBand” and as solo singer Steve Hunter. Plus he is one half of the award winning duo “Stash” who recently appeared on BBC1’s All together Now.
URL:https://brokencrossclub.co.uk/event/steve-hunter/
CATEGORIES:Saturday Night Entertainment
ATTACH;FMTTYPE=image/png:https://brokencrossclub.co.uk/wp-content/uploads/2021/11/Steve-Hunter.png
END:VEVENT
END:VCALENDAR