BEGIN:VCALENDAR
VERSION:2.0
PRODID:-//Broken Cross Club - ECPv6.15.20//NONSGML v1.0//EN
CALSCALE:GREGORIAN
METHOD:PUBLISH
X-WR-CALNAME:Broken Cross Club
X-ORIGINAL-URL:https://brokencrossclub.co.uk
X-WR-CALDESC:Events for Broken Cross Club
REFRESH-INTERVAL;VALUE=DURATION:PT1H
X-Robots-Tag:noindex
X-PUBLISHED-TTL:PT1H
BEGIN:VTIMEZONE
TZID:Europe/London
BEGIN:DAYLIGHT
TZOFFSETFROM:+0000
TZOFFSETTO:+0100
TZNAME:BST
DTSTART:20230326T010000
END:DAYLIGHT
BEGIN:STANDARD
TZOFFSETFROM:+0100
TZOFFSETTO:+0000
TZNAME:GMT
DTSTART:20231029T010000
END:STANDARD
BEGIN:DAYLIGHT
TZOFFSETFROM:+0000
TZOFFSETTO:+0100
TZNAME:BST
DTSTART:20240331T010000
END:DAYLIGHT
BEGIN:STANDARD
TZOFFSETFROM:+0100
TZOFFSETTO:+0000
TZNAME:GMT
DTSTART:20241027T010000
END:STANDARD
BEGIN:DAYLIGHT
TZOFFSETFROM:+0000
TZOFFSETTO:+0100
TZNAME:BST
DTSTART:20250330T010000
END:DAYLIGHT
BEGIN:STANDARD
TZOFFSETFROM:+0100
TZOFFSETTO:+0000
TZNAME:GMT
DTSTART:20251026T010000
END:STANDARD
BEGIN:DAYLIGHT
TZOFFSETFROM:+0000
TZOFFSETTO:+0100
TZNAME:BST
DTSTART:20260329T010000
END:DAYLIGHT
BEGIN:STANDARD
TZOFFSETFROM:+0100
TZOFFSETTO:+0000
TZNAME:GMT
DTSTART:20261025T010000
END:STANDARD
END:VTIMEZONE
BEGIN:VEVENT
DTSTART;TZID=Europe/London:20241231T193000
DTEND;TZID=Europe/London:20250101T010000
DTSTAMP:20260424T091909
CREATED:20220315T150419Z
LAST-MODIFIED:20240412T142156Z
UID:4378-1735673400-1735693200@brokencrossclub.co.uk
SUMMARY:New Years Eve Party
DESCRIPTION:Impact are a fantastic high energy duo that perform a fast paced energetic show. \nTheir sets are full of party hits that never fail to get everyone on the dance floor.\nWith superb harmonies and great personalities they are excellent entertainment for any venue or occasion \n  \nAlso starring \n \nFletch is a professional solo artist\, with over 30 years of experience within the industry.\nHaving proved popular performing at holiday parks\, clubs and pubs around the country\,\nno two Fletch shows will ever be the same. Fletch adapts his shows to maximise audience enjoyment.\nFletch’s shows include a range of musical styles and artists\, including the likes of Billy Fury\, Elvis Presley\nand Queen through to modern artists such as George Ezra and Michael Buble.\n       
URL:https://brokencrossclub.co.uk/event/new-years-eve-party/
CATEGORIES:Special Events
ATTACH;FMTTYPE=image/jpeg:https://brokencrossclub.co.uk/wp-content/uploads/2022/03/impact.jpg
END:VEVENT
END:VCALENDAR