BEGIN:VCALENDAR
VERSION:2.0
PRODID:-//Broken Cross Club - ECPv6.15.20//NONSGML v1.0//EN
CALSCALE:GREGORIAN
METHOD:PUBLISH
X-WR-CALNAME:Broken Cross Club
X-ORIGINAL-URL:https://brokencrossclub.co.uk
X-WR-CALDESC:Events for Broken Cross Club
REFRESH-INTERVAL;VALUE=DURATION:PT1H
X-Robots-Tag:noindex
X-PUBLISHED-TTL:PT1H
BEGIN:VTIMEZONE
TZID:Europe/London
BEGIN:DAYLIGHT
TZOFFSETFROM:+0000
TZOFFSETTO:+0100
TZNAME:BST
DTSTART:20230326T010000
END:DAYLIGHT
BEGIN:STANDARD
TZOFFSETFROM:+0100
TZOFFSETTO:+0000
TZNAME:GMT
DTSTART:20231029T010000
END:STANDARD
BEGIN:DAYLIGHT
TZOFFSETFROM:+0000
TZOFFSETTO:+0100
TZNAME:BST
DTSTART:20240331T010000
END:DAYLIGHT
BEGIN:STANDARD
TZOFFSETFROM:+0100
TZOFFSETTO:+0000
TZNAME:GMT
DTSTART:20241027T010000
END:STANDARD
BEGIN:DAYLIGHT
TZOFFSETFROM:+0000
TZOFFSETTO:+0100
TZNAME:BST
DTSTART:20250330T010000
END:DAYLIGHT
BEGIN:STANDARD
TZOFFSETFROM:+0100
TZOFFSETTO:+0000
TZNAME:GMT
DTSTART:20251026T010000
END:STANDARD
END:VTIMEZONE
BEGIN:VEVENT
DTSTART;TZID=Europe/London:20241130T210000
DTEND;TZID=Europe/London:20241130T233000
DTSTAMP:20260424T104029
CREATED:20210813T183438Z
LAST-MODIFIED:20240213T172818Z
UID:4166-1733000400-1733009400@brokencrossclub.co.uk
SUMMARY:Lee Davidge
DESCRIPTION:When Lee is not performing with Red Alert\, he has a very busy solo career with his amazing tribute to Shakin Stevens\, with his uncanny resemblance it was the natural path to take. Lee has perfected the vocals and mannerisms to emulate the Welsh Rock ‘n’ Roll star. Shaking Stevens also known as Shaky is a platinum selling artiste and one of the UK’s biggest selling single artistes of the 1980’s and has charted 33 top 40 hit singles since his career began. \nLee has taken the best of those songs to create this wonderful one man Rock N Roll show\, featuring all the biggest hits from Shakey & combined them with iconic Rock & Roll hits from the 50’s & 60’s. Lee has a massive repertoire tried and tested on Rock n Roll fans nationwide\, this show will have you dancing the night away.
URL:https://brokencrossclub.co.uk/event/lee-davidge/
CATEGORIES:Saturday Night Entertainment
ATTACH;FMTTYPE=image/jpeg:https://brokencrossclub.co.uk/wp-content/uploads/2018/01/LeeDavidge.jpg
END:VEVENT
END:VCALENDAR